BEGIN:VCALENDAR
VERSION:2.0
PRODID:-//Peace Presbyterian Church - ECPv6.15.12.2//NONSGML v1.0//EN
CALSCALE:GREGORIAN
METHOD:PUBLISH
X-ORIGINAL-URL:https://peacepresbyterian.com
X-WR-CALDESC:Events for Peace Presbyterian Church
REFRESH-INTERVAL;VALUE=DURATION:PT1H
X-Robots-Tag:noindex
X-PUBLISHED-TTL:PT1H
BEGIN:VTIMEZONE
TZID:UTC
BEGIN:STANDARD
TZOFFSETFROM:+0000
TZOFFSETTO:+0000
TZNAME:UTC
DTSTART:20230101T000000
END:STANDARD
END:VTIMEZONE
BEGIN:VEVENT
DTSTART;TZID=UTC:20240623T093000
DTEND;TZID=UTC:20240623T103000
DTSTAMP:20260425T102929
CREATED:20240613T171938Z
LAST-MODIFIED:20240613T171938Z
UID:1700-1719135000-1719138600@peacepresbyterian.com
SUMMARY:Morning Worship\, Guest Speaker Elder Dean Marshall
DESCRIPTION:
URL:https://peacepresbyterian.com/event/morning-worship-guest-speaker-elder-dean-marshall/
LOCATION:Peace Presbyterian Church\, 333 South 204th Street\, Elkhorn\, 68022\, United States
END:VEVENT
END:VCALENDAR