BEGIN:VCALENDAR
VERSION:2.0
PRODID:-//Peace Presbyterian Church - ECPv6.15.12.2//NONSGML v1.0//EN
CALSCALE:GREGORIAN
METHOD:PUBLISH
X-ORIGINAL-URL:https://peacepresbyterian.com
X-WR-CALDESC:Events for Peace Presbyterian Church
REFRESH-INTERVAL;VALUE=DURATION:PT1H
X-Robots-Tag:noindex
X-PUBLISHED-TTL:PT1H
BEGIN:VTIMEZONE
TZID:UTC
BEGIN:STANDARD
TZOFFSETFROM:+0000
TZOFFSETTO:+0000
TZNAME:UTC
DTSTART:20230101T000000
END:STANDARD
END:VTIMEZONE
BEGIN:VEVENT
DTSTART;TZID=UTC:20240628T080000
DTEND;TZID=UTC:20240722T170000
DTSTAMP:20260425T002019
CREATED:20240628T175901Z
LAST-MODIFIED:20240628T175901Z
UID:1720-1719561600-1721667600@peacepresbyterian.com
SUMMARY:Fosterlove's 2024 Back-To-School Supplies Drive
DESCRIPTION:Until Monday\, July 22 everyone is invited to join the Peace Youth group in collecting supplies listed below for the event. Please leave donations on the table in the foyer. Thanks for your support! \n❏Crayons\n❏Markers\n❏Colored pencils\n❏Pencils\n❏Pens\n❏Glue sticks\n❏Pencil box\n❏Folders\n❏Binders\n❏Erasers\n❏Highlighters\n❏New backpacks \nFoster Love’s mission is to provide basic needs and opportunities for children and families impacted by foster care so they feel confident\, empowered\, and valued. www.fosterlove402org * IG & FB: fosterlove402ne * 402-670-2637.\nSee Jane King\, Mary Vance or Brian Vance for more information.
URL:https://peacepresbyterian.com/event/fosterloves-2024-back-to-school-supplies-drive/
END:VEVENT
BEGIN:VEVENT
DTSTART;TZID=UTC:20240721T093000
DTEND;TZID=UTC:20240721T103000
DTSTAMP:20260425T002019
CREATED:20240628T175443Z
LAST-MODIFIED:20240628T175455Z
UID:1714-1721554200-1721557800@peacepresbyterian.com
SUMMARY:Christmas in July Service
DESCRIPTION:
URL:https://peacepresbyterian.com/event/christmas-in-july-service/
LOCATION:Peace Presbyterian Church\, 333 South 204th Street\, Elkhorn\, 68022\, United States
END:VEVENT
BEGIN:VEVENT
DTSTART;TZID=UTC:20240721T103000
DTEND;TZID=UTC:20240721T110000
DTSTAMP:20260425T002019
CREATED:20240628T175537Z
LAST-MODIFIED:20240628T175537Z
UID:1716-1721557800-1721559600@peacepresbyterian.com
SUMMARY:Cookie Sunday/Christmas in July Fellowship
DESCRIPTION:
URL:https://peacepresbyterian.com/event/cookie-sunday-christmas-in-july-fellowship/
END:VEVENT
END:VCALENDAR