BEGIN:VCALENDAR
VERSION:2.0
PRODID:-//Peace Presbyterian Church - ECPv6.15.12.2//NONSGML v1.0//EN
CALSCALE:GREGORIAN
METHOD:PUBLISH
X-WR-CALNAME:Peace Presbyterian Church
X-ORIGINAL-URL:https://peacepresbyterian.com
X-WR-CALDESC:Events for Peace Presbyterian Church
REFRESH-INTERVAL;VALUE=DURATION:PT1H
X-Robots-Tag:noindex
X-PUBLISHED-TTL:PT1H
BEGIN:VTIMEZONE
TZID:UTC
BEGIN:STANDARD
TZOFFSETFROM:+0000
TZOFFSETTO:+0000
TZNAME:UTC
DTSTART:20230101T000000
END:STANDARD
END:VTIMEZONE
BEGIN:VEVENT
DTSTART;TZID=UTC:20240813T100000
DTEND;TZID=UTC:20240813T120000
DTSTAMP:20260424T230014
CREATED:20240730T215137Z
LAST-MODIFIED:20240808T172108Z
UID:1750-1723543200-1723550400@peacepresbyterian.com
SUMMARY:Covenant Group Bible Study
DESCRIPTION:The Covenant Group continues to meet for Bible Study on Tuesdays at 10:00am in the Library. Contact Liz Baker or Mary McArdle for information. Everyone is welcome!
URL:https://peacepresbyterian.com/event/covenant-group-bible-study-3/
END:VEVENT
END:VCALENDAR