BEGIN:VCALENDAR
VERSION:2.0
PRODID:-//Peace Presbyterian Church - ECPv6.15.12.2//NONSGML v1.0//EN
CALSCALE:GREGORIAN
METHOD:PUBLISH
X-WR-CALNAME:Peace Presbyterian Church
X-ORIGINAL-URL:https://peacepresbyterian.com
X-WR-CALDESC:Events for Peace Presbyterian Church
REFRESH-INTERVAL;VALUE=DURATION:PT1H
X-Robots-Tag:noindex
X-PUBLISHED-TTL:PT1H
BEGIN:VTIMEZONE
TZID:UTC
BEGIN:STANDARD
TZOFFSETFROM:+0000
TZOFFSETTO:+0000
TZNAME:UTC
DTSTART:20230101T000000
END:STANDARD
END:VTIMEZONE
BEGIN:VEVENT
DTSTART;TZID=UTC:20241023T183000
DTEND;TZID=UTC:20241023T193000
DTSTAMP:20260424T185823
CREATED:20241002T193350Z
LAST-MODIFIED:20241002T193350Z
UID:1808-1729708200-1729711800@peacepresbyterian.com
SUMMARY:Finding Sacred in the Everyday in Fellowship Hall
DESCRIPTION:
URL:https://peacepresbyterian.com/event/finding-sacred-in-the-everyday-in-fellowship-hall-2/
END:VEVENT
END:VCALENDAR