BEGIN:VCALENDAR
VERSION:2.0
PRODID:-//Peace Presbyterian Church - ECPv6.15.12.2//NONSGML v1.0//EN
CALSCALE:GREGORIAN
METHOD:PUBLISH
X-WR-CALNAME:Peace Presbyterian Church
X-ORIGINAL-URL:https://peacepresbyterian.com
X-WR-CALDESC:Events for Peace Presbyterian Church
REFRESH-INTERVAL;VALUE=DURATION:PT1H
X-Robots-Tag:noindex
X-PUBLISHED-TTL:PT1H
BEGIN:VTIMEZONE
TZID:UTC
BEGIN:STANDARD
TZOFFSETFROM:+0000
TZOFFSETTO:+0000
TZNAME:UTC
DTSTART:20230101T000000
END:STANDARD
END:VTIMEZONE
BEGIN:VEVENT
DTSTART;TZID=UTC:20241024T183000
DTEND;TZID=UTC:20241024T193000
DTSTAMP:20260424T185823
CREATED:20241002T193425Z
LAST-MODIFIED:20241002T193425Z
UID:1810-1729794600-1729798200@peacepresbyterian.com
SUMMARY:Mission Theology Course in the sanctuary
DESCRIPTION:
URL:https://peacepresbyterian.com/event/mission-theology-course-in-the-sanctuary-4/
END:VEVENT
END:VCALENDAR