BEGIN:VCALENDAR
VERSION:2.0
PRODID:-//Peace Presbyterian Church - ECPv6.15.12.2//NONSGML v1.0//EN
CALSCALE:GREGORIAN
METHOD:PUBLISH
X-WR-CALNAME:Peace Presbyterian Church
X-ORIGINAL-URL:https://peacepresbyterian.com
X-WR-CALDESC:Events for Peace Presbyterian Church
REFRESH-INTERVAL;VALUE=DURATION:PT1H
X-Robots-Tag:noindex
X-PUBLISHED-TTL:PT1H
BEGIN:VTIMEZONE
TZID:UTC
BEGIN:STANDARD
TZOFFSETFROM:+0000
TZOFFSETTO:+0000
TZNAME:UTC
DTSTART:20240101T000000
END:STANDARD
END:VTIMEZONE
BEGIN:VEVENT
DTSTART;TZID=UTC:20250108T093000
DTEND;TZID=UTC:20250108T103000
DTSTAMP:20260424T144042
CREATED:20241221T195204Z
LAST-MODIFIED:20241221T195204Z
UID:1839-1736328600-1736332200@peacepresbyterian.com
SUMMARY:PW Meeting in Fellowship Hall
DESCRIPTION:
URL:https://peacepresbyterian.com/event/pw-meeting-in-fellowship-hall-2/
END:VEVENT
BEGIN:VEVENT
DTSTART;TZID=UTC:20250108T183000
DTEND;TZID=UTC:20250108T193000
DTSTAMP:20260424T144042
CREATED:20241221T195234Z
LAST-MODIFIED:20241221T195234Z
UID:1841-1736361000-1736364600@peacepresbyterian.com
SUMMARY:Finding Sacred in the Everyday
DESCRIPTION:
URL:https://peacepresbyterian.com/event/finding-sacred-in-the-everyday-2/
LOCATION:Peace Presbyterian Church\, 333 South 204th Street\, Elkhorn\, 68022\, United States
END:VEVENT
END:VCALENDAR