BEGIN:VCALENDAR
VERSION:2.0
PRODID:-//Peace Presbyterian Church - ECPv6.15.12.2//NONSGML v1.0//EN
CALSCALE:GREGORIAN
METHOD:PUBLISH
X-ORIGINAL-URL:https://peacepresbyterian.com
X-WR-CALDESC:Events for Peace Presbyterian Church
REFRESH-INTERVAL;VALUE=DURATION:PT1H
X-Robots-Tag:noindex
X-PUBLISHED-TTL:PT1H
BEGIN:VTIMEZONE
TZID:UTC
BEGIN:STANDARD
TZOFFSETFROM:+0000
TZOFFSETTO:+0000
TZNAME:UTC
DTSTART:20240101T000000
END:STANDARD
END:VTIMEZONE
BEGIN:VEVENT
DTSTART;TZID=UTC:20250420T073000
DTEND;TZID=UTC:20250420T083000
DTSTAMP:20260424T103928
CREATED:20250407T020205Z
LAST-MODIFIED:20250407T020205Z
UID:1916-1745134200-1745137800@peacepresbyterian.com
SUMMARY:Easter Sonrise Service with Communion
DESCRIPTION:
URL:https://peacepresbyterian.com/event/easter-sonrise-service-with-communion/
LOCATION:Peace Presbyterian Church\, 333 South 204th Street\, Elkhorn\, 68022\, United States
END:VEVENT
BEGIN:VEVENT
DTSTART;TZID=UTC:20250420T083000
DTEND;TZID=UTC:20250420T093000
DTSTAMP:20260424T103928
CREATED:20250407T020250Z
LAST-MODIFIED:20250407T021134Z
UID:1918-1745137800-1745141400@peacepresbyterian.com
SUMMARY:Easter Breakfast in Fellowship Hall (proceeds to Youth Group)
DESCRIPTION:The Peace Youth look forward to serving breakfast after the Easter Sonrise service. We welcome any contributions to the meal. Please click the Sign Up Genius link below\, or sign up on the Fellowship Hall bulletin board. Plan to bring your items to the church kitchen on Sunday\, April 20\, before 8:00am (Sonrise Service begins at 7:30 am). Thank you! \nEaster Sonrise Service Breakfast Sign-Up
URL:https://peacepresbyterian.com/event/easter-breakfast-in-fellowship-hall-proceeds-to-youth-group/
LOCATION:Peace Presbyterian Church\, 333 South 204th Street\, Elkhorn\, 68022\, United States
END:VEVENT
BEGIN:VEVENT
DTSTART;TZID=UTC:20250420T101500
DTEND;TZID=UTC:20250420T111500
DTSTAMP:20260424T103928
CREATED:20250407T020329Z
LAST-MODIFIED:20250407T020329Z
UID:1920-1745144100-1745147700@peacepresbyterian.com
SUMMARY:Easter Morning Service with Communion
DESCRIPTION:
URL:https://peacepresbyterian.com/event/easter-morning-service-with-communion/
LOCATION:Peace Presbyterian Church\, 333 South 204th Street\, Elkhorn\, 68022\, United States
END:VEVENT
END:VCALENDAR