BEGIN:VCALENDAR
VERSION:2.0
PRODID:-//Peace Presbyterian Church - ECPv6.15.12.2//NONSGML v1.0//EN
CALSCALE:GREGORIAN
METHOD:PUBLISH
X-ORIGINAL-URL:https://peacepresbyterian.com
X-WR-CALDESC:Events for Peace Presbyterian Church
REFRESH-INTERVAL;VALUE=DURATION:PT1H
X-Robots-Tag:noindex
X-PUBLISHED-TTL:PT1H
BEGIN:VTIMEZONE
TZID:UTC
BEGIN:STANDARD
TZOFFSETFROM:+0000
TZOFFSETTO:+0000
TZNAME:UTC
DTSTART:20240101T000000
END:STANDARD
END:VTIMEZONE
BEGIN:VEVENT
DTSTART;TZID=UTC:20250615T093000
DTEND;TZID=UTC:20250713T093000
DTSTAMP:20260424T075914
CREATED:20250613T160301Z
LAST-MODIFIED:20250613T160301Z
UID:1982-1749979800-1752399000@peacepresbyterian.com
SUMMARY:Project Harmony
DESCRIPTION:The Peace Presbyterian Church Mission Committee will be collecting donations for Project Harmony’s Wish List during the weeks before our July 13th “Christmas in July” service. Everyone is invited to select items from the list below. Hard copies of the list will be included in this Sunday’s bulletin as well. Place your donations in the playpen on the sanctuary platform starting June 15th. See Gloria Woolery with questions.
URL:https://peacepresbyterian.com/event/project-harmony/
END:VEVENT
BEGIN:VEVENT
DTSTART;TZID=UTC:20250616T183000
DTEND;TZID=UTC:20250616T193000
DTSTAMP:20260424T075914
CREATED:20250613T155746Z
LAST-MODIFIED:20250613T155746Z
UID:1970-1750098600-1750102200@peacepresbyterian.com
SUMMARY:Session Meeting
DESCRIPTION:
URL:https://peacepresbyterian.com/event/session-meeting-7/
END:VEVENT
END:VCALENDAR