BEGIN:VCALENDAR
VERSION:2.0
PRODID:-//Peace Presbyterian Church - ECPv6.15.12.2//NONSGML v1.0//EN
CALSCALE:GREGORIAN
METHOD:PUBLISH
X-WR-CALNAME:Peace Presbyterian Church
X-ORIGINAL-URL:https://peacepresbyterian.com
X-WR-CALDESC:Events for Peace Presbyterian Church
REFRESH-INTERVAL;VALUE=DURATION:PT1H
X-Robots-Tag:noindex
X-PUBLISHED-TTL:PT1H
BEGIN:VTIMEZONE
TZID:UTC
BEGIN:STANDARD
TZOFFSETFROM:+0000
TZOFFSETTO:+0000
TZNAME:UTC
DTSTART:20240101T000000
END:STANDARD
END:VTIMEZONE
BEGIN:VEVENT
DTSTART;TZID=UTC:20250715T093000
DTEND;TZID=UTC:20250803T093000
DTSTAMP:20260424T064047
CREATED:20250715T170827Z
LAST-MODIFIED:20250719T211602Z
UID:1996-1752571800-1754213400@peacepresbyterian.com
SUMMARY:Back-To-School Supply Collection for Foster Care Students
DESCRIPTION:The Mission Committee invites the Church Family to join them in collecting back-to-school items for Foster Heart+Hope (formerly FosterLove) now through Aug. 3. A list of items needed is included is enclosed below\, can be found in Sunday’s bulletin\, and is posted on the foyer bulletin board. A collection box has been made available in the foyer. See Aser Javier for details. \nNew Backpacks\nWater Bottles – Dishwasher Safe\nCrayons\nMarkers\nColored Pencils\nPens\nGlue Sticks\nPencil Box\nNotebooks\nLoose Leaf Paper\nFolders\nBinders\nErasers\nHighlighters
URL:https://peacepresbyterian.com/event/back-to-school-supply-collection-for-foster-care-students/
LOCATION:Peace Presbyterian Church\, 333 South 204th Street\, Elkhorn\, 68022\, United States
END:VEVENT
END:VCALENDAR