BEGIN:VCALENDAR
VERSION:2.0
PRODID:-//Peace Presbyterian Church - ECPv6.15.12.2//NONSGML v1.0//EN
CALSCALE:GREGORIAN
METHOD:PUBLISH
X-WR-CALNAME:Peace Presbyterian Church
X-ORIGINAL-URL:https://peacepresbyterian.com
X-WR-CALDESC:Events for Peace Presbyterian Church
REFRESH-INTERVAL;VALUE=DURATION:PT1H
X-Robots-Tag:noindex
X-PUBLISHED-TTL:PT1H
BEGIN:VTIMEZONE
TZID:UTC
BEGIN:STANDARD
TZOFFSETFROM:+0000
TZOFFSETTO:+0000
TZNAME:UTC
DTSTART:20240101T000000
END:STANDARD
END:VTIMEZONE
BEGIN:VEVENT
DTSTART;TZID=UTC:20250914T190000
DTEND;TZID=UTC:20250914T200000
DTSTAMP:20260424T035737
CREATED:20250818T160252Z
LAST-MODIFIED:20250818T160252Z
UID:2020-1757876400-1757880000@peacepresbyterian.com
SUMMARY:Mitch McVicker Concert in the Sanctuary
DESCRIPTION:Mitch McVicker is a Dove Award winning Christian singer-songwriter who has performed in 49 states and internationally. He is perhaps most well-known for his collaborations with the late\, great Rich Mullins who wrote “Awesome God”.\nWe are honored to have Mitch coming to present a concert of inspirational songs and the sharing of his faith story here at Peace Sunday\, September 14\, at 7:00 pm.
URL:https://peacepresbyterian.com/event/mitch-mcvicker-concert-in-the-sanctuary/
END:VEVENT
END:VCALENDAR