BEGIN:VCALENDAR
VERSION:2.0
PRODID:-//Peace Presbyterian Church - ECPv6.15.12.2//NONSGML v1.0//EN
CALSCALE:GREGORIAN
METHOD:PUBLISH
X-WR-CALNAME:Peace Presbyterian Church
X-ORIGINAL-URL:https://peacepresbyterian.com
X-WR-CALDESC:Events for Peace Presbyterian Church
REFRESH-INTERVAL;VALUE=DURATION:PT1H
X-Robots-Tag:noindex
X-PUBLISHED-TTL:PT1H
BEGIN:VTIMEZONE
TZID:UTC
BEGIN:STANDARD
TZOFFSETFROM:+0000
TZOFFSETTO:+0000
TZNAME:UTC
DTSTART:20250101T000000
END:STANDARD
END:VTIMEZONE
BEGIN:VEVENT
DTSTART;TZID=UTC:20260308T000000
DTEND;TZID=UTC:20260308T235959
DTSTAMP:20260423T192551
CREATED:20260225T182134Z
LAST-MODIFIED:20260225T184216Z
UID:17587-1772928000-1773014399@peacepresbyterian.com
SUMMARY:Daylight Savings Time - Spring Forward!
DESCRIPTION:
URL:https://peacepresbyterian.com/event/daylight-savings-time-spring-forward/
END:VEVENT
BEGIN:VEVENT
DTSTART;TZID=UTC:20260308T101500
DTEND;TZID=UTC:20260308T111500
DTSTAMP:20260423T192551
CREATED:20260225T182252Z
LAST-MODIFIED:20260225T183720Z
UID:17589-1772964900-1772968500@peacepresbyterian.com
SUMMARY:Sunday Worship at Peace
DESCRIPTION:
URL:https://peacepresbyterian.com/event/sunday-worship-2/
LOCATION:Peace Presbyterian Church\, 333 South 204th Street\, Elkhorn\, 68022\, United States
END:VEVENT
BEGIN:VEVENT
DTSTART;TZID=UTC:20260308T111500
DTEND;TZID=UTC:20260308T120000
DTSTAMP:20260423T192551
CREATED:20260225T182604Z
LAST-MODIFIED:20260225T183923Z
UID:17595-1772968500-1772971200@peacepresbyterian.com
SUMMARY:Cookie Sunday Fellowship
DESCRIPTION:
URL:https://peacepresbyterian.com/event/cookie-sunday-fellowship-6/
LOCATION:Peace Presbyterian Church\, 333 South 204th Street\, Elkhorn\, 68022\, United States
END:VEVENT
END:VCALENDAR