BEGIN:VCALENDAR
VERSION:2.0
PRODID:-//Peace Presbyterian Church - ECPv6.15.12.2//NONSGML v1.0//EN
CALSCALE:GREGORIAN
METHOD:PUBLISH
X-WR-CALNAME:Peace Presbyterian Church
X-ORIGINAL-URL:https://peacepresbyterian.com
X-WR-CALDESC:Events for Peace Presbyterian Church
REFRESH-INTERVAL;VALUE=DURATION:PT1H
X-Robots-Tag:noindex
X-PUBLISHED-TTL:PT1H
BEGIN:VTIMEZONE
TZID:UTC
BEGIN:STANDARD
TZOFFSETFROM:+0000
TZOFFSETTO:+0000
TZNAME:UTC
DTSTART:20250101T000000
END:STANDARD
END:VTIMEZONE
BEGIN:VEVENT
DTSTART;TZID=UTC:20260314T101500
DTEND;TZID=UTC:20260314T111500
DTSTAMP:20260423T180117
CREATED:20260314T160359Z
LAST-MODIFIED:20260314T160359Z
UID:17664-1773483300-1773486900@peacepresbyterian.com
SUMMARY:Easter Sunday Service & Communion
DESCRIPTION:
URL:https://peacepresbyterian.com/event/easter-sunday-service-communion/
END:VEVENT
END:VCALENDAR