BEGIN:VCALENDAR
VERSION:2.0
PRODID:-//Peace Presbyterian Church - ECPv6.15.12.2//NONSGML v1.0//EN
CALSCALE:GREGORIAN
METHOD:PUBLISH
X-WR-CALNAME:Peace Presbyterian Church
X-ORIGINAL-URL:https://peacepresbyterian.com
X-WR-CALDESC:Events for Peace Presbyterian Church
REFRESH-INTERVAL;VALUE=DURATION:PT1H
X-Robots-Tag:noindex
X-PUBLISHED-TTL:PT1H
BEGIN:VTIMEZONE
TZID:UTC
BEGIN:STANDARD
TZOFFSETFROM:+0000
TZOFFSETTO:+0000
TZNAME:UTC
DTSTART:20250101T000000
END:STANDARD
END:VTIMEZONE
BEGIN:VEVENT
DTSTART;TZID=UTC:20260322T090000
DTEND;TZID=UTC:20260322T140000
DTSTAMP:20260423T192546
CREATED:20260225T183043Z
LAST-MODIFIED:20260226T153753Z
UID:17603-1774170000-1774188000@peacepresbyterian.com
SUMMARY:Blood Drive in Fellowship Hall
DESCRIPTION:Mark your calendar for our next blood drive which will be March 22\, 2026\, 9:00am-2:00pm in Fellowship Hall!
URL:https://peacepresbyterian.com/event/blood-drive-in-fellowship-hall/
LOCATION:Peace Presbyterian Church\, 333 South 204th Street\, Elkhorn\, 68022\, United States
END:VEVENT
BEGIN:VEVENT
DTSTART;TZID=UTC:20260322T101500
DTEND;TZID=UTC:20260322T111500
DTSTAMP:20260423T192546
CREATED:20260225T183141Z
LAST-MODIFIED:20260225T183141Z
UID:17605-1774174500-1774178100@peacepresbyterian.com
SUMMARY:Sunday Worship at Peace
DESCRIPTION:
URL:https://peacepresbyterian.com/event/sunday-worship-at-peace/
END:VEVENT
END:VCALENDAR