BEGIN:VCALENDAR
VERSION:2.0
PRODID:-//Peace Presbyterian Church - ECPv6.15.12.2//NONSGML v1.0//EN
CALSCALE:GREGORIAN
METHOD:PUBLISH
X-WR-CALNAME:Peace Presbyterian Church
X-ORIGINAL-URL:https://peacepresbyterian.com
X-WR-CALDESC:Events for Peace Presbyterian Church
REFRESH-INTERVAL;VALUE=DURATION:PT1H
X-Robots-Tag:noindex
X-PUBLISHED-TTL:PT1H
BEGIN:VTIMEZONE
TZID:UTC
BEGIN:STANDARD
TZOFFSETFROM:+0000
TZOFFSETTO:+0000
TZNAME:UTC
DTSTART:20250101T000000
END:STANDARD
END:VTIMEZONE
BEGIN:VEVENT
DTSTART;TZID=UTC:20260330T101500
DTEND;TZID=UTC:20260330T111500
DTSTAMP:20260423T163307
CREATED:20260225T183527Z
LAST-MODIFIED:20260225T183527Z
UID:17611-1774865700-1774869300@peacepresbyterian.com
SUMMARY:Sunday Worship at Peace
DESCRIPTION:
URL:https://peacepresbyterian.com/event/sunday-worship-at-peace-2/
END:VEVENT
END:VCALENDAR