BEGIN:VCALENDAR
VERSION:2.0
PRODID:-//Peace Presbyterian Church - ECPv6.15.12.2//NONSGML v1.0//EN
CALSCALE:GREGORIAN
METHOD:PUBLISH
X-ORIGINAL-URL:https://peacepresbyterian.com
X-WR-CALDESC:Events for Peace Presbyterian Church
REFRESH-INTERVAL;VALUE=DURATION:PT1H
X-Robots-Tag:noindex
X-PUBLISHED-TTL:PT1H
BEGIN:VTIMEZONE
TZID:UTC
BEGIN:STANDARD
TZOFFSETFROM:+0000
TZOFFSETTO:+0000
TZNAME:UTC
DTSTART:20250101T000000
END:STANDARD
END:VTIMEZONE
BEGIN:VEVENT
DTSTART;TZID=UTC:20260403T183000
DTEND;TZID=UTC:20260403T193000
DTSTAMP:20260423T163856
CREATED:20260314T160314Z
LAST-MODIFIED:20260314T160314Z
UID:17662-1775241000-1775244600@peacepresbyterian.com
SUMMARY:Good Friday Service
DESCRIPTION:
URL:https://peacepresbyterian.com/event/good-friday-service-3/
LOCATION:Peace Presbyterian Church\, 333 South 204th Street\, Elkhorn\, 68022\, United States
END:VEVENT
END:VCALENDAR