BEGIN:VCALENDAR
VERSION:2.0
PRODID:-//Peace Presbyterian Church - ECPv6.15.12.2//NONSGML v1.0//EN
CALSCALE:GREGORIAN
METHOD:PUBLISH
X-WR-CALNAME:Peace Presbyterian Church
X-ORIGINAL-URL:https://peacepresbyterian.com
X-WR-CALDESC:Events for Peace Presbyterian Church
REFRESH-INTERVAL;VALUE=DURATION:PT1H
X-Robots-Tag:noindex
X-PUBLISHED-TTL:PT1H
BEGIN:VTIMEZONE
TZID:UTC
BEGIN:STANDARD
TZOFFSETFROM:+0000
TZOFFSETTO:+0000
TZNAME:UTC
DTSTART:20250101T000000
END:STANDARD
END:VTIMEZONE
BEGIN:VEVENT
DTSTART;TZID=UTC:20260426T101500
DTEND;TZID=UTC:20260426T111500
DTSTAMP:20260423T204824
CREATED:20260402T202852Z
LAST-MODIFIED:20260402T203000Z
UID:23742-1777198500-1777202100@peacepresbyterian.com
SUMMARY:Sunday Worship at Peace
DESCRIPTION:
URL:https://peacepresbyterian.com/event/sunday-worship-at-peace-5/
END:VEVENT
BEGIN:VEVENT
DTSTART;TZID=UTC:20260503T101500
DTEND;TZID=UTC:20260503T111500
DTSTAMP:20260423T204824
CREATED:20260402T202938Z
LAST-MODIFIED:20260402T202938Z
UID:23744-1777803300-1777806900@peacepresbyterian.com
SUMMARY:Sunday Worship at Peace
DESCRIPTION:
URL:https://peacepresbyterian.com/event/sunday-worship-at-peace-6/
END:VEVENT
BEGIN:VEVENT
DTSTART;TZID=UTC:20260503T111500
DTEND;TZID=UTC:20260503T121500
DTSTAMP:20260423T204824
CREATED:20260402T202512Z
LAST-MODIFIED:20260402T202512Z
UID:23736-1777806900-1777810500@peacepresbyterian.com
SUMMARY:PW Salad Luncheon in Fellowship Hall
DESCRIPTION:
URL:https://peacepresbyterian.com/event/pw-salad-luncheon-in-fellowship-hall-2/
END:VEVENT
BEGIN:VEVENT
DTSTART;TZID=UTC:20260512T080000
DTEND;TZID=UTC:20260512T200000
DTSTAMP:20260423T204824
CREATED:20260422T185504Z
LAST-MODIFIED:20260422T185504Z
UID:23755-1778572800-1778616000@peacepresbyterian.com
SUMMARY:Primary Election in the Fellowship Hall
DESCRIPTION:
URL:https://peacepresbyterian.com/event/primary-election-in-the-fellowship-hall/
LOCATION:Peace Presbyterian Church\, 333 South 204th Street\, Elkhorn\, 68022\, United States
END:VEVENT
BEGIN:VEVENT
DTSTART;TZID=UTC:20260512T173000
DTEND;TZID=UTC:20260512T190000
DTSTAMP:20260423T204824
CREATED:20260422T185622Z
LAST-MODIFIED:20260422T185622Z
UID:23757-1778607000-1778612400@peacepresbyterian.com
SUMMARY:Man Cave
DESCRIPTION:Our next meeting will be May 12 at 5:30pm in the Library with Dean Marshall and Michael Young hosting. Mark your calendar and invite a friend to join you!
URL:https://peacepresbyterian.com/event/man-cave-2/
END:VEVENT
END:VCALENDAR