BEGIN:VCALENDAR
VERSION:2.0
PRODID:-//Peace Presbyterian Church - ECPv6.15.12.2//NONSGML v1.0//EN
CALSCALE:GREGORIAN
METHOD:PUBLISH
X-WR-CALNAME:Peace Presbyterian Church
X-ORIGINAL-URL:https://peacepresbyterian.com
X-WR-CALDESC:Events for Peace Presbyterian Church
REFRESH-INTERVAL;VALUE=DURATION:PT1H
X-Robots-Tag:noindex
X-PUBLISHED-TTL:PT1H
BEGIN:VTIMEZONE
TZID:UTC
BEGIN:STANDARD
TZOFFSETFROM:+0000
TZOFFSETTO:+0000
TZNAME:UTC
DTSTART:20220101T000000
END:STANDARD
END:VTIMEZONE
BEGIN:VEVENT
DTSTART;TZID=UTC:20231010T100000
DTEND;TZID=UTC:20231010T110000
DTSTAMP:20260425T122453
CREATED:20230923T014009Z
LAST-MODIFIED:20230923T014009Z
UID:1449-1696932000-1696935600@peacepresbyterian.com
SUMMARY:Covenant Bible Study in Library
DESCRIPTION:
URL:https://peacepresbyterian.com/event/covenant-bible-study-in-library/
END:VEVENT
BEGIN:VEVENT
DTSTART;TZID=UTC:20231009T183000
DTEND;TZID=UTC:20231009T193000
DTSTAMP:20260425T122453
CREATED:20230923T013918Z
LAST-MODIFIED:20230923T013918Z
UID:1447-1696876200-1696879800@peacepresbyterian.com
SUMMARY:Cub Scouts
DESCRIPTION:
URL:https://peacepresbyterian.com/event/cub-scouts-5/
END:VEVENT
BEGIN:VEVENT
DTSTART;TZID=UTC:20231009T183000
DTEND;TZID=UTC:20231009T193000
DTSTAMP:20260425T122453
CREATED:20230923T013829Z
LAST-MODIFIED:20230923T013829Z
UID:1445-1696876200-1696879800@peacepresbyterian.com
SUMMARY:Session Meeting in the Library (note date change)
DESCRIPTION:
URL:https://peacepresbyterian.com/event/session-meeting-in-the-library-note-date-change/
END:VEVENT
BEGIN:VEVENT
DTSTART;TZID=UTC:20231008T101500
DTEND;TZID=UTC:20231008T111500
DTSTAMP:20260425T122453
CREATED:20230923T013730Z
LAST-MODIFIED:20230923T013730Z
UID:1443-1696760100-1696763700@peacepresbyterian.com
SUMMARY:Worship Service and Sunday School for Pre-K through 6th grade
DESCRIPTION:
URL:https://peacepresbyterian.com/event/worship-service-and-sunday-school-for-pre-k-through-6th-grade/
END:VEVENT
BEGIN:VEVENT
DTSTART;TZID=UTC:20231008T101500
DTEND;TZID=UTC:20231008T111500
DTSTAMP:20260425T122453
CREATED:20230923T013618Z
LAST-MODIFIED:20230923T013618Z
UID:1441-1696760100-1696763700@peacepresbyterian.com
SUMMARY:All Holy Spirit Church service in Fellowship Hall
DESCRIPTION:
URL:https://peacepresbyterian.com/event/all-holy-spirit-church-service-in-fellowship-hall-5/
END:VEVENT
BEGIN:VEVENT
DTSTART;TZID=UTC:20231006T180000
DTEND;TZID=UTC:20231006T190000
DTSTAMP:20260425T122453
CREATED:20231004T134526Z
LAST-MODIFIED:20231004T134526Z
UID:1480-1696615200-1696618800@peacepresbyterian.com
SUMMARY:All Holy Spirit Prayer Service in the Sanctuary
DESCRIPTION:
URL:https://peacepresbyterian.com/event/all-holy-spirit-prayer-service-in-the-sanctuary/
END:VEVENT
BEGIN:VEVENT
DTSTART;TZID=UTC:20231004T190000
DTEND;TZID=UTC:20231004T200000
DTSTAMP:20260425T122453
CREATED:20231004T134439Z
LAST-MODIFIED:20231004T134439Z
UID:1478-1696446000-1696449600@peacepresbyterian.com
SUMMARY:All Holy Spirit Bible Study in the Library
DESCRIPTION:
URL:https://peacepresbyterian.com/event/all-holy-spirit-bible-study-in-the-library/
END:VEVENT
BEGIN:VEVENT
DTSTART;TZID=UTC:20231004T093000
DTEND;TZID=UTC:20231004T103000
DTSTAMP:20260425T122453
CREATED:20230923T013459Z
LAST-MODIFIED:20230923T013459Z
UID:1439-1696411800-1696415400@peacepresbyterian.com
SUMMARY:Presbyterian Women in Fellowship Hall
DESCRIPTION:
URL:https://peacepresbyterian.com/event/presbyterian-women-in-fellowship-hall/
END:VEVENT
BEGIN:VEVENT
DTSTART;TZID=UTC:20231002T183000
DTEND;TZID=UTC:20231002T193000
DTSTAMP:20260425T122453
CREATED:20230923T013346Z
LAST-MODIFIED:20230923T013346Z
UID:1437-1696271400-1696275000@peacepresbyterian.com
SUMMARY:Cub Scouts
DESCRIPTION:
URL:https://peacepresbyterian.com/event/cub-scouts-4/
END:VEVENT
BEGIN:VEVENT
DTSTART;TZID=UTC:20231001T101500
DTEND;TZID=UTC:20231001T111500
DTSTAMP:20260425T122453
CREATED:20230923T013209Z
LAST-MODIFIED:20230923T013209Z
UID:1435-1696155300-1696158900@peacepresbyterian.com
SUMMARY:All Holy Spirit Church service in Fellowship Hall
DESCRIPTION:
URL:https://peacepresbyterian.com/event/all-holy-spirit-church-service-in-fellowship-hall-4/
END:VEVENT
BEGIN:VEVENT
DTSTART;TZID=UTC:20231001T101500
DTEND;TZID=UTC:20231001T111500
DTSTAMP:20260425T122453
CREATED:20230923T013054Z
LAST-MODIFIED:20230923T013054Z
UID:1433-1696155300-1696158900@peacepresbyterian.com
SUMMARY:Worship Service and Sunday School for Pre-K through 6th grade; Communion Sunday
DESCRIPTION:
URL:https://peacepresbyterian.com/event/worship-service-and-sunday-school-for-pre-k-through-6th-grade-communion-sunday/
END:VEVENT
BEGIN:VEVENT
DTSTART;TZID=UTC:20230926T100000
DTEND;TZID=UTC:20230926T110000
DTSTAMP:20260425T122453
CREATED:20230819T155257Z
LAST-MODIFIED:20230819T155257Z
UID:1375-1695722400-1695726000@peacepresbyterian.com
SUMMARY:Covenant Bible Study in the Library
DESCRIPTION:
URL:https://peacepresbyterian.com/event/covenant-bible-study-in-the-library-2/
END:VEVENT
BEGIN:VEVENT
DTSTART;TZID=UTC:20230925T183000
DTEND;TZID=UTC:20230925T193000
DTSTAMP:20260425T122453
CREATED:20230819T155226Z
LAST-MODIFIED:20230819T155226Z
UID:1373-1695666600-1695670200@peacepresbyterian.com
SUMMARY:Cub Scouts
DESCRIPTION:
URL:https://peacepresbyterian.com/event/cub-scouts-3/
END:VEVENT
BEGIN:VEVENT
DTSTART;TZID=UTC:20230924T101500
DTEND;TZID=UTC:20230924T111500
DTSTAMP:20260425T122453
CREATED:20230912T162242Z
LAST-MODIFIED:20230912T162242Z
UID:1427-1695550500-1695554100@peacepresbyterian.com
SUMMARY:Worship Service & Sunday School for Pre-K thru 6th grade
DESCRIPTION:
URL:https://peacepresbyterian.com/event/worship-service-sunday-school-for-pre-k-thru-6th-grade/
LOCATION:Peace Presbyterian Church\, 333 South 204th Street\, Elkhorn\, 68022\, United States
END:VEVENT
BEGIN:VEVENT
DTSTART;TZID=UTC:20230924T101500
DTEND;TZID=UTC:20230924T111500
DTSTAMP:20260425T122453
CREATED:20230819T155157Z
LAST-MODIFIED:20230819T155157Z
UID:1371-1695550500-1695554100@peacepresbyterian.com
SUMMARY:All Holy Spirit Church service in Fellowship Hall
DESCRIPTION:
URL:https://peacepresbyterian.com/event/all-holy-spirit-church-service-in-fellowship-hall/
END:VEVENT
BEGIN:VEVENT
DTSTART;TZID=UTC:20230923T130000
DTEND;TZID=UTC:20230923T140000
DTSTAMP:20260425T122453
CREATED:20230819T155115Z
LAST-MODIFIED:20230819T155115Z
UID:1369-1695474000-1695477600@peacepresbyterian.com
SUMMARY:Peaceful Quilters
DESCRIPTION:
URL:https://peacepresbyterian.com/event/peaceful-quilters-2/
END:VEVENT
BEGIN:VEVENT
DTSTART;TZID=UTC:20230920T120000
DTEND;TZID=UTC:20230920T140000
DTSTAMP:20260425T122453
CREATED:20230819T155044Z
LAST-MODIFIED:20230819T155044Z
UID:1367-1695211200-1695218400@peacepresbyterian.com
SUMMARY:Retirees Potluck Lunch
DESCRIPTION:
URL:https://peacepresbyterian.com/event/retirees-potluck-lunch-3/
END:VEVENT
BEGIN:VEVENT
DTSTART;TZID=UTC:20230918T183000
DTEND;TZID=UTC:20230918T193000
DTSTAMP:20260425T122453
CREATED:20230819T155010Z
LAST-MODIFIED:20230819T155010Z
UID:1365-1695061800-1695065400@peacepresbyterian.com
SUMMARY:Session Meeting
DESCRIPTION:
URL:https://peacepresbyterian.com/event/session-meeting-4/
END:VEVENT
BEGIN:VEVENT
DTSTART;TZID=UTC:20230918T183000
DTEND;TZID=UTC:20230918T193000
DTSTAMP:20260425T122453
CREATED:20230819T154930Z
LAST-MODIFIED:20230819T154930Z
UID:1363-1695061800-1695065400@peacepresbyterian.com
SUMMARY:Cub Scouts
DESCRIPTION:
URL:https://peacepresbyterian.com/event/cub-scouts-2/
END:VEVENT
BEGIN:VEVENT
DTSTART;TZID=UTC:20230917T101500
DTEND;TZID=UTC:20230917T111500
DTSTAMP:20260425T122453
CREATED:20230912T162115Z
LAST-MODIFIED:20230912T162115Z
UID:1425-1694945700-1694949300@peacepresbyterian.com
SUMMARY:Worship Service & Sunday School for Pre-K through 6th grade
DESCRIPTION:
URL:https://peacepresbyterian.com/event/worship-service-sunday-school-for-pre-k-through-6th-grade/
LOCATION:Peace Presbyterian Church\, 333 South 204th Street\, Elkhorn\, 68022\, United States
END:VEVENT
BEGIN:VEVENT
DTSTART;TZID=UTC:20230917T093000
DTEND;TZID=UTC:20230917T103000
DTSTAMP:20260425T122453
CREATED:20230826T164706Z
LAST-MODIFIED:20230826T164706Z
UID:1388-1694943000-1694946600@peacepresbyterian.com
SUMMARY:All Holy Spirit Church service in Fellowship Hall
DESCRIPTION:
URL:https://peacepresbyterian.com/event/all-holy-spirit-church-service-in-fellowship-hall-3/
END:VEVENT
BEGIN:VEVENT
DTSTART;TZID=UTC:20230913T093000
DTEND;TZID=UTC:20230913T103000
DTSTAMP:20260425T122453
CREATED:20230826T164624Z
LAST-MODIFIED:20230826T164624Z
UID:1386-1694597400-1694601000@peacepresbyterian.com
SUMMARY:PW Meeting in Fellowship Hall
DESCRIPTION:
URL:https://peacepresbyterian.com/event/pw-meeting-in-fellowship-hall/
END:VEVENT
BEGIN:VEVENT
DTSTART;TZID=UTC:20230912T100000
DTEND;TZID=UTC:20230912T110000
DTSTAMP:20260425T122453
CREATED:20230819T154855Z
LAST-MODIFIED:20230826T164527Z
UID:1361-1694512800-1694516400@peacepresbyterian.com
SUMMARY:Covenant Bible Study in the Library
DESCRIPTION:
URL:https://peacepresbyterian.com/event/covenant-bible-study-in-the-library/
END:VEVENT
BEGIN:VEVENT
DTSTART;TZID=UTC:20230911T183000
DTEND;TZID=UTC:20230911T193000
DTSTAMP:20260425T122453
CREATED:20230819T154823Z
LAST-MODIFIED:20230819T154823Z
UID:1359-1694457000-1694460600@peacepresbyterian.com
SUMMARY:Cub Scouts
DESCRIPTION:
URL:https://peacepresbyterian.com/event/cub-scouts/
END:VEVENT
BEGIN:VEVENT
DTSTART;TZID=UTC:20230911T133000
DTEND;TZID=UTC:20230911T143000
DTSTAMP:20260425T122453
CREATED:20230805T230235Z
LAST-MODIFIED:20230902T000742Z
UID:1348-1694439000-1694442600@peacepresbyterian.com
SUMMARY:PMRV Women's Gathering
DESCRIPTION:
URL:https://peacepresbyterian.com/event/pmrv-womens-gathering/
END:VEVENT
BEGIN:VEVENT
DTSTART;TZID=UTC:20230910T101500
DTEND;TZID=UTC:20230910T111500
DTSTAMP:20260425T122453
CREATED:20230812T010335Z
LAST-MODIFIED:20230826T164403Z
UID:1356-1694340900-1694344500@peacepresbyterian.com
SUMMARY:Peace Worship Service returns to fall schedule ; Dr. Jonathan Sloan\, Interim Pastor\, speaking
DESCRIPTION:
URL:https://peacepresbyterian.com/event/peace-worship-service-returns-to-fall-schedule/
LOCATION:Peace Presbyterian Church\, 333 South 204th Street\, Elkhorn\, 68022\, United States
END:VEVENT
BEGIN:VEVENT
DTSTART;TZID=UTC:20230910T093000
DTEND;TZID=UTC:20230910T103000
DTSTAMP:20260425T122453
CREATED:20230812T010246Z
LAST-MODIFIED:20230812T010246Z
UID:1354-1694338200-1694341800@peacepresbyterian.com
SUMMARY:All Holy Spirit Service in Fellowship Hall
DESCRIPTION:
URL:https://peacepresbyterian.com/event/all-holy-spirit-service-in-fellowship-hall/
END:VEVENT
BEGIN:VEVENT
DTSTART;TZID=UTC:20230906T100000
DTEND;TZID=UTC:20230906T110000
DTSTAMP:20260425T122453
CREATED:20230826T164315Z
LAST-MODIFIED:20230826T164315Z
UID:1383-1693994400-1693998000@peacepresbyterian.com
SUMMARY:Ceil Sramek Memorial Service in the Sanctuary
DESCRIPTION:
URL:https://peacepresbyterian.com/event/ceil-sramek-memorial-service-in-the-sanctuary/
END:VEVENT
BEGIN:VEVENT
DTSTART;TZID=UTC:20230903T093000
DTEND;TZID=UTC:20230903T103000
DTSTAMP:20260425T122453
CREATED:20230826T164241Z
LAST-MODIFIED:20230826T164241Z
UID:1381-1693733400-1693737000@peacepresbyterian.com
SUMMARY:All Holy Spirit Church service in Fellowship Hall
DESCRIPTION:
URL:https://peacepresbyterian.com/event/all-holy-spirit-church-service-in-fellowship-hall-2/
END:VEVENT
BEGIN:VEVENT
DTSTART;TZID=UTC:20230903T093000
DTEND;TZID=UTC:20230903T103000
DTSTAMP:20260425T122453
CREATED:20230826T164157Z
LAST-MODIFIED:20230826T164157Z
UID:1379-1693733400-1693737000@peacepresbyterian.com
SUMMARY:Elder Aser Javier speaking
DESCRIPTION:
URL:https://peacepresbyterian.com/event/elder-aser-javier-speaking/
END:VEVENT
END:VCALENDAR