BEGIN:VCALENDAR
VERSION:2.0
PRODID:-//Peace Presbyterian Church - ECPv6.15.12.2//NONSGML v1.0//EN
CALSCALE:GREGORIAN
METHOD:PUBLISH
X-WR-CALNAME:Peace Presbyterian Church
X-ORIGINAL-URL:https://peacepresbyterian.com
X-WR-CALDESC:Events for Peace Presbyterian Church
REFRESH-INTERVAL;VALUE=DURATION:PT1H
X-Robots-Tag:noindex
X-PUBLISHED-TTL:PT1H
BEGIN:VTIMEZONE
TZID:UTC
BEGIN:STANDARD
TZOFFSETFROM:+0000
TZOFFSETTO:+0000
TZNAME:UTC
DTSTART:20220101T000000
END:STANDARD
END:VTIMEZONE
BEGIN:VEVENT
DTSTART;TZID=UTC:20230917T093000
DTEND;TZID=UTC:20230917T103000
DTSTAMP:20260425T122611
CREATED:20230826T164706Z
LAST-MODIFIED:20230826T164706Z
UID:1388-1694943000-1694946600@peacepresbyterian.com
SUMMARY:All Holy Spirit Church service in Fellowship Hall
DESCRIPTION:
URL:https://peacepresbyterian.com/event/all-holy-spirit-church-service-in-fellowship-hall-3/
END:VEVENT
BEGIN:VEVENT
DTSTART;TZID=UTC:20230913T093000
DTEND;TZID=UTC:20230913T103000
DTSTAMP:20260425T122611
CREATED:20230826T164624Z
LAST-MODIFIED:20230826T164624Z
UID:1386-1694597400-1694601000@peacepresbyterian.com
SUMMARY:PW Meeting in Fellowship Hall
DESCRIPTION:
URL:https://peacepresbyterian.com/event/pw-meeting-in-fellowship-hall/
END:VEVENT
BEGIN:VEVENT
DTSTART;TZID=UTC:20230912T100000
DTEND;TZID=UTC:20230912T110000
DTSTAMP:20260425T122611
CREATED:20230819T154855Z
LAST-MODIFIED:20230826T164527Z
UID:1361-1694512800-1694516400@peacepresbyterian.com
SUMMARY:Covenant Bible Study in the Library
DESCRIPTION:
URL:https://peacepresbyterian.com/event/covenant-bible-study-in-the-library/
END:VEVENT
BEGIN:VEVENT
DTSTART;TZID=UTC:20230911T183000
DTEND;TZID=UTC:20230911T193000
DTSTAMP:20260425T122611
CREATED:20230819T154823Z
LAST-MODIFIED:20230819T154823Z
UID:1359-1694457000-1694460600@peacepresbyterian.com
SUMMARY:Cub Scouts
DESCRIPTION:
URL:https://peacepresbyterian.com/event/cub-scouts/
END:VEVENT
BEGIN:VEVENT
DTSTART;TZID=UTC:20230911T133000
DTEND;TZID=UTC:20230911T143000
DTSTAMP:20260425T122611
CREATED:20230805T230235Z
LAST-MODIFIED:20230902T000742Z
UID:1348-1694439000-1694442600@peacepresbyterian.com
SUMMARY:PMRV Women's Gathering
DESCRIPTION:
URL:https://peacepresbyterian.com/event/pmrv-womens-gathering/
END:VEVENT
BEGIN:VEVENT
DTSTART;TZID=UTC:20230910T101500
DTEND;TZID=UTC:20230910T111500
DTSTAMP:20260425T122611
CREATED:20230812T010335Z
LAST-MODIFIED:20230826T164403Z
UID:1356-1694340900-1694344500@peacepresbyterian.com
SUMMARY:Peace Worship Service returns to fall schedule ; Dr. Jonathan Sloan\, Interim Pastor\, speaking
DESCRIPTION:
URL:https://peacepresbyterian.com/event/peace-worship-service-returns-to-fall-schedule/
LOCATION:Peace Presbyterian Church\, 333 South 204th Street\, Elkhorn\, 68022\, United States
END:VEVENT
BEGIN:VEVENT
DTSTART;TZID=UTC:20230910T093000
DTEND;TZID=UTC:20230910T103000
DTSTAMP:20260425T122611
CREATED:20230812T010246Z
LAST-MODIFIED:20230812T010246Z
UID:1354-1694338200-1694341800@peacepresbyterian.com
SUMMARY:All Holy Spirit Service in Fellowship Hall
DESCRIPTION:
URL:https://peacepresbyterian.com/event/all-holy-spirit-service-in-fellowship-hall/
END:VEVENT
BEGIN:VEVENT
DTSTART;TZID=UTC:20230906T100000
DTEND;TZID=UTC:20230906T110000
DTSTAMP:20260425T122611
CREATED:20230826T164315Z
LAST-MODIFIED:20230826T164315Z
UID:1383-1693994400-1693998000@peacepresbyterian.com
SUMMARY:Ceil Sramek Memorial Service in the Sanctuary
DESCRIPTION:
URL:https://peacepresbyterian.com/event/ceil-sramek-memorial-service-in-the-sanctuary/
END:VEVENT
BEGIN:VEVENT
DTSTART;TZID=UTC:20230903T093000
DTEND;TZID=UTC:20230903T103000
DTSTAMP:20260425T122611
CREATED:20230826T164241Z
LAST-MODIFIED:20230826T164241Z
UID:1381-1693733400-1693737000@peacepresbyterian.com
SUMMARY:All Holy Spirit Church service in Fellowship Hall
DESCRIPTION:
URL:https://peacepresbyterian.com/event/all-holy-spirit-church-service-in-fellowship-hall-2/
END:VEVENT
BEGIN:VEVENT
DTSTART;TZID=UTC:20230903T093000
DTEND;TZID=UTC:20230903T103000
DTSTAMP:20260425T122611
CREATED:20230826T164157Z
LAST-MODIFIED:20230826T164157Z
UID:1379-1693733400-1693737000@peacepresbyterian.com
SUMMARY:Elder Aser Javier speaking
DESCRIPTION:
URL:https://peacepresbyterian.com/event/elder-aser-javier-speaking/
END:VEVENT
BEGIN:VEVENT
DTSTART;TZID=UTC:20230828T183000
DTEND;TZID=UTC:20230828T193000
DTSTAMP:20260425T122611
CREATED:20230826T163935Z
LAST-MODIFIED:20230826T163935Z
UID:1377-1693247400-1693251000@peacepresbyterian.com
SUMMARY:Cub Scouts Opening Night
DESCRIPTION:
URL:https://peacepresbyterian.com/event/cub-scouts-opening-night/
END:VEVENT
BEGIN:VEVENT
DTSTART;TZID=UTC:20230827T093000
DTEND;TZID=UTC:20230827T103000
DTSTAMP:20260425T122611
CREATED:20230803T155937Z
LAST-MODIFIED:20230803T155937Z
UID:1336-1693128600-1693132200@peacepresbyterian.com
SUMMARY:All Holy Spirit Service in FH
DESCRIPTION:
URL:https://peacepresbyterian.com/event/all-holy-spirit-service-in-fh-3/
END:VEVENT
BEGIN:VEVENT
DTSTART;TZID=UTC:20230826T130000
DTEND;TZID=UTC:20230826T143000
DTSTAMP:20260425T122611
CREATED:20230803T155908Z
LAST-MODIFIED:20230803T155908Z
UID:1334-1693054800-1693060200@peacepresbyterian.com
SUMMARY:Peaceful Quilters
DESCRIPTION:
URL:https://peacepresbyterian.com/event/peaceful-quilters/
END:VEVENT
BEGIN:VEVENT
DTSTART;TZID=UTC:20230821T183000
DTEND;TZID=UTC:20230821T193000
DTSTAMP:20260425T122611
CREATED:20230805T230102Z
LAST-MODIFIED:20230805T230102Z
UID:1344-1692642600-1692646200@peacepresbyterian.com
SUMMARY:Session Meeting
DESCRIPTION:
URL:https://peacepresbyterian.com/event/session-meeting-3/
LOCATION:Peace Presbyterian Church\, 333 South 204th Street\, Elkhorn\, 68022\, United States
END:VEVENT
BEGIN:VEVENT
DTSTART;TZID=UTC:20230820T103000
DTEND;TZID=UTC:20230820T110000
DTSTAMP:20260425T122611
CREATED:20230805T230003Z
LAST-MODIFIED:20230805T230013Z
UID:1342-1692527400-1692529200@peacepresbyterian.com
SUMMARY:Cookie Sunday Fellowship
DESCRIPTION:
URL:https://peacepresbyterian.com/event/cookie-sunday-fellowship/
LOCATION:Peace Presbyterian Church\, 333 South 204th Street\, Elkhorn\, 68022\, United States
END:VEVENT
BEGIN:VEVENT
DTSTART;TZID=UTC:20230816T120000
DTEND;TZID=UTC:20230816T140000
DTSTAMP:20260425T122611
CREATED:20230805T225905Z
LAST-MODIFIED:20230805T225905Z
UID:1340-1692187200-1692194400@peacepresbyterian.com
SUMMARY:Retiree Potluck
DESCRIPTION:
URL:https://peacepresbyterian.com/event/retiree-potluck/
END:VEVENT
BEGIN:VEVENT
DTSTART;TZID=UTC:20230816T091500
DTEND;TZID=UTC:20230816T101500
DTSTAMP:20260425T122611
CREATED:20230803T155823Z
LAST-MODIFIED:20230803T155823Z
UID:1332-1692177300-1692180900@peacepresbyterian.com
SUMMARY:Tai Chi Class
DESCRIPTION:
URL:https://peacepresbyterian.com/event/tai-chi-class-11/
LOCATION:Peace Presbyterian Church\, 333 South 204th Street\, Elkhorn\, 68022\, United States
END:VEVENT
BEGIN:VEVENT
DTSTART;TZID=UTC:20230813T093000
DTEND;TZID=UTC:20230813T110000
DTSTAMP:20260425T122611
CREATED:20230805T225806Z
LAST-MODIFIED:20230805T225806Z
UID:1338-1691919000-1691924400@peacepresbyterian.com
SUMMARY:Peace Worship and Communion Service
DESCRIPTION:
URL:https://peacepresbyterian.com/event/peace-worship-and-communion-service/
LOCATION:Peace Presbyterian Church\, 333 South 204th Street\, Elkhorn\, 68022\, United States
END:VEVENT
BEGIN:VEVENT
DTSTART;TZID=UTC:20230813T093000
DTEND;TZID=UTC:20230813T103000
DTSTAMP:20260425T122611
CREATED:20230803T155737Z
LAST-MODIFIED:20230803T155737Z
UID:1330-1691919000-1691922600@peacepresbyterian.com
SUMMARY:All Holy Spirit Service in FH
DESCRIPTION:
URL:https://peacepresbyterian.com/event/all-holy-spirit-service-in-fh-2/
END:VEVENT
BEGIN:VEVENT
DTSTART;TZID=UTC:20230809T091500
DTEND;TZID=UTC:20230809T101500
DTSTAMP:20260425T122611
CREATED:20230803T155651Z
LAST-MODIFIED:20230803T155651Z
UID:1328-1691572500-1691576100@peacepresbyterian.com
SUMMARY:Tai Chi Class
DESCRIPTION:
URL:https://peacepresbyterian.com/event/tai-chi-class-10/
LOCATION:Peace Presbyterian Church\, 333 South 204th Street\, Elkhorn\, 68022\, United States
END:VEVENT
BEGIN:VEVENT
DTSTART;TZID=UTC:20230806T093000
DTEND;TZID=UTC:20230806T103000
DTSTAMP:20260425T122611
CREATED:20230803T155514Z
LAST-MODIFIED:20230803T155514Z
UID:1326-1691314200-1691317800@peacepresbyterian.com
SUMMARY:All Holy Spirit Service in FH
DESCRIPTION:
URL:https://peacepresbyterian.com/event/all-holy-spirit-service-in-fh/
END:VEVENT
BEGIN:VEVENT
DTSTART;TZID=UTC:20230803T120000
DTEND;TZID=UTC:20230803T140000
DTSTAMP:20260425T122611
CREATED:20230803T155422Z
LAST-MODIFIED:20230803T155422Z
UID:1324-1691064000-1691071200@peacepresbyterian.com
SUMMARY:Youth Fosterlove Backpack Activity at UNO
DESCRIPTION:
URL:https://peacepresbyterian.com/event/youth-fosterlove-backpack-activity-at-uno/
END:VEVENT
BEGIN:VEVENT
DTSTART;TZID=UTC:20230802T100000
DTEND;TZID=UTC:20230802T110000
DTSTAMP:20260425T122611
CREATED:20230715T210904Z
LAST-MODIFIED:20230715T210904Z
UID:1290-1690970400-1690974000@peacepresbyterian.com
SUMMARY:Kitchen Cleaning
DESCRIPTION:
URL:https://peacepresbyterian.com/event/kitchen-cleaning/
LOCATION:Peace Presbyterian Church\, 333 South 204th Street\, Elkhorn\, 68022\, United States
END:VEVENT
BEGIN:VEVENT
DTSTART;TZID=UTC:20230729T110000
DTEND;TZID=UTC:20230729T130000
DTSTAMP:20260425T122611
CREATED:20230616T213158Z
LAST-MODIFIED:20230616T213158Z
UID:1267-1690628400-1690635600@peacepresbyterian.com
SUMMARY:Bette Fulton Memorial Service
DESCRIPTION:
URL:https://peacepresbyterian.com/event/bette-fulton-memorial-service/
LOCATION:Peace Presbyterian Church\, 333 South 204th Street\, Elkhorn\, 68022\, United States
END:VEVENT
BEGIN:VEVENT
DTSTART;TZID=UTC:20230726T091500
DTEND;TZID=UTC:20230726T101500
DTSTAMP:20260425T122611
CREATED:20230704T011841Z
LAST-MODIFIED:20230704T011841Z
UID:1283-1690362900-1690366500@peacepresbyterian.com
SUMMARY:Tai Chi Class
DESCRIPTION:The Tai Chi class\, led by Donna Osterchill\, is moving to one day a week. Starting July 12\, and running through August 16\, they will meet on Wednesdays at 9:15am in fellowship hall. Everyone is invited to take part as the group explores this art celebrating fitness and relaxation. If you have questions\, or have not registered for the class yet\, please text\, email\, or call Donna at: 402-660-9710 / donnaotravel@msn.com.
URL:https://peacepresbyterian.com/event/tai-chi-class-9/
LOCATION:Peace Presbyterian Church\, 333 South 204th Street\, Elkhorn\, 68022\, United States
END:VEVENT
BEGIN:VEVENT
DTSTART;TZID=UTC:20230719T120000
DTEND;TZID=UTC:20230719T140000
DTSTAMP:20260425T122611
CREATED:20230616T213102Z
LAST-MODIFIED:20230616T213102Z
UID:1265-1689768000-1689775200@peacepresbyterian.com
SUMMARY:Retirees Potluck Lunch
DESCRIPTION:
URL:https://peacepresbyterian.com/event/retirees-potluck-lunch-2/
END:VEVENT
BEGIN:VEVENT
DTSTART;TZID=UTC:20230719T091500
DTEND;TZID=UTC:20230719T101500
DTSTAMP:20260425T122611
CREATED:20230704T011705Z
LAST-MODIFIED:20230704T011705Z
UID:1281-1689758100-1689761700@peacepresbyterian.com
SUMMARY:Tai Chi Class
DESCRIPTION:The Tai Chi class\, led by Donna Osterchill\, is moving to one day a week. Starting July 12\, and running through August 16\, they will meet on Wednesdays at 9:15am in fellowship hall. Everyone is invited to take part as the group explores this art celebrating fitness and relaxation. If you have questions\, or have not registered for the class yet\, please text\, email\, or call Donna at: 402-660-9710 / donnaotravel@msn.com.
URL:https://peacepresbyterian.com/event/tai-chi-class-8/
LOCATION:Peace Presbyterian Church\, 333 South 204th Street\, Elkhorn\, 68022\, United States
END:VEVENT
BEGIN:VEVENT
DTSTART;TZID=UTC:20230718T180000
DTEND;TZID=UTC:20230718T193000
DTSTAMP:20260425T122611
CREATED:20230706T171320Z
LAST-MODIFIED:20230706T171320Z
UID:1285-1689703200-1689708600@peacepresbyterian.com
SUMMARY:PNC Meeting
DESCRIPTION:
URL:https://peacepresbyterian.com/event/pnc-meeting/
LOCATION:Peace Presbyterian Church\, 333 South 204th Street\, Elkhorn\, 68022\, United States
END:VEVENT
BEGIN:VEVENT
DTSTART;TZID=UTC:20230717T183000
DTEND;TZID=UTC:20230717T203000
DTSTAMP:20260425T122611
CREATED:20230616T213016Z
LAST-MODIFIED:20230616T213016Z
UID:1263-1689618600-1689625800@peacepresbyterian.com
SUMMARY:Session Meeting
DESCRIPTION:
URL:https://peacepresbyterian.com/event/session-meeting-2/
LOCATION:Peace Presbyterian Church\, 333 South 204th Street\, Elkhorn\, 68022\, United States
END:VEVENT
BEGIN:VEVENT
DTSTART;TZID=UTC:20230716T103000
DTEND;TZID=UTC:20230716T110000
DTSTAMP:20260425T122611
CREATED:20230715T210940Z
LAST-MODIFIED:20230715T210940Z
UID:1292-1689503400-1689505200@peacepresbyterian.com
SUMMARY:Cookie Sunday
DESCRIPTION:
URL:https://peacepresbyterian.com/event/cookie-sunday/
END:VEVENT
END:VCALENDAR