BEGIN:VCALENDAR
VERSION:2.0
PRODID:-//Peace Presbyterian Church - ECPv6.15.12.2//NONSGML v1.0//EN
CALSCALE:GREGORIAN
METHOD:PUBLISH
X-WR-CALNAME:Peace Presbyterian Church
X-ORIGINAL-URL:https://peacepresbyterian.com
X-WR-CALDESC:Events for Peace Presbyterian Church
REFRESH-INTERVAL;VALUE=DURATION:PT1H
X-Robots-Tag:noindex
X-PUBLISHED-TTL:PT1H
BEGIN:VTIMEZONE
TZID:UTC
BEGIN:STANDARD
TZOFFSETFROM:+0000
TZOFFSETTO:+0000
TZNAME:UTC
DTSTART:20220101T000000
END:STANDARD
END:VTIMEZONE
BEGIN:VEVENT
DTSTART;TZID=UTC:20230712T100000
DTEND;TZID=UTC:20230712T113000
DTSTAMP:20260425T162305
CREATED:20230623T185855Z
LAST-MODIFIED:20230623T190106Z
UID:1272-1689156000-1689161400@peacepresbyterian.com
SUMMARY:PW Summer Service Project
DESCRIPTION:The PRESBYTERIAN WOMEN will hold a Summer Service Project on July 12\, 10:00am in Fellowship Hall. The group will be assembling 50 sack lunches for the Open Door Mission. All women of Peace are welcome to join in the project and fellowship time. Contact Susan School with questions: skscholl10@gmail.com
URL:https://peacepresbyterian.com/event/summer-service-project/
LOCATION:Peace Presbyterian Church\, 333 South 204th Street\, Elkhorn\, 68022\, United States
END:VEVENT
BEGIN:VEVENT
DTSTART;TZID=UTC:20230712T091500
DTEND;TZID=UTC:20230712T101500
DTSTAMP:20260425T162305
CREATED:20230704T011413Z
LAST-MODIFIED:20230704T011413Z
UID:1279-1689153300-1689156900@peacepresbyterian.com
SUMMARY:Tai Chi Class
DESCRIPTION:The Tai Chi class\, led by Donna Osterchill\, is moving to one day a week. Starting July 12\, and running through August 16\, they will meet on Wednesdays at 9:15am in fellowship hall. Everyone is invited to take part as the group explores this art celebrating fitness and relaxation. If you have questions\, or have not registered for the class yet\, please text\, email\, or call Donna at: 402-660-9710 / donnaotravel@msn.com.
URL:https://peacepresbyterian.com/event/tai-chi-class-7/
LOCATION:Peace Presbyterian Church\, 333 South 204th Street\, Elkhorn\, 68022\, United States
END:VEVENT
BEGIN:VEVENT
DTSTART;TZID=UTC:20230629T091500
DTEND;TZID=UTC:20230629T101500
DTSTAMP:20260425T162305
CREATED:20230607T235859Z
LAST-MODIFIED:20230608T161300Z
UID:1258-1688030100-1688033700@peacepresbyterian.com
SUMMARY:Tai Chi Class
DESCRIPTION:
URL:https://peacepresbyterian.com/event/tai-chi-class-6/
LOCATION:Peace Presbyterian Church\, 333 South 204th Street\, Elkhorn\, 68022\, United States
END:VEVENT
BEGIN:VEVENT
DTSTART;TZID=UTC:20230627T091500
DTEND;TZID=UTC:20230627T101500
DTSTAMP:20260425T162305
CREATED:20230607T235820Z
LAST-MODIFIED:20230608T161237Z
UID:1256-1687857300-1687860900@peacepresbyterian.com
SUMMARY:Tai Chi Class
DESCRIPTION:
URL:https://peacepresbyterian.com/event/tai-chi-class-5/
LOCATION:Peace Presbyterian Church\, 333 South 204th Street\, Elkhorn\, 68022\, United States
END:VEVENT
BEGIN:VEVENT
DTSTART;TZID=UTC:20230622T091500
DTEND;TZID=UTC:20230622T101500
DTSTAMP:20260425T162305
CREATED:20230607T235731Z
LAST-MODIFIED:20230608T161212Z
UID:1254-1687425300-1687428900@peacepresbyterian.com
SUMMARY:Tai Chi Class
DESCRIPTION:
URL:https://peacepresbyterian.com/event/tai-chi-class-4/
LOCATION:Peace Presbyterian Church\, 333 South 204th Street\, Elkhorn\, 68022\, United States
END:VEVENT
BEGIN:VEVENT
DTSTART;TZID=UTC:20230621T120000
DTEND;TZID=UTC:20230621T140000
DTSTAMP:20260425T162305
CREATED:20230607T235631Z
LAST-MODIFIED:20230607T235631Z
UID:1252-1687348800-1687356000@peacepresbyterian.com
SUMMARY:Retirees Potluck Lunch at Steve & Shari Brosz’s
DESCRIPTION:
URL:https://peacepresbyterian.com/event/retirees-potluck-lunch-at-steve-shari-broszs/
END:VEVENT
BEGIN:VEVENT
DTSTART;TZID=UTC:20230620T091500
DTEND;TZID=UTC:20230620T101500
DTSTAMP:20260425T162305
CREATED:20230607T235507Z
LAST-MODIFIED:20230608T161148Z
UID:1250-1687252500-1687256100@peacepresbyterian.com
SUMMARY:Tai Chi Class
DESCRIPTION:
URL:https://peacepresbyterian.com/event/tai-chi-class-3/
LOCATION:Peace Presbyterian Church\, 333 South 204th Street\, Elkhorn\, 68022\, United States
END:VEVENT
BEGIN:VEVENT
DTSTART;TZID=UTC:20230619T181500
DTEND;TZID=UTC:20230619T203000
DTSTAMP:20260425T162305
CREATED:20230607T235316Z
LAST-MODIFIED:20230607T235316Z
UID:1248-1687198500-1687206600@peacepresbyterian.com
SUMMARY:Session Meeting in the Library
DESCRIPTION:
URL:https://peacepresbyterian.com/event/session-meeting-in-the-library/
LOCATION:Peace Presbyterian Church\, 333 South 204th Street\, Elkhorn\, 68022\, United States
END:VEVENT
BEGIN:VEVENT
DTSTART;TZID=UTC:20230616T090000
DTEND;TZID=UTC:20230730T170000
DTSTAMP:20260425T162305
CREATED:20230616T213606Z
LAST-MODIFIED:20230616T213606Z
UID:1269-1686906000-1690736400@peacepresbyterian.com
SUMMARY:Fosterlove Project
DESCRIPTION:The Peace Youth Group invites the church family to join them in gathering the following school supplies for the Fosterlove Project\, now through July 30.  Please leave donations on the collection table in the foyer.  Thank you for your support! Crayons – Colored pencils – Pencils – Binders – Pens – Markers – Erasers – Glue sticks – Pencil boxes – Notebooks – Folders – Loose leaf paper – Highlighters – New backpacks
URL:https://peacepresbyterian.com/event/fosterlove-project/
END:VEVENT
BEGIN:VEVENT
DTSTART;TZID=UTC:20230615T091500
DTEND;TZID=UTC:20230615T101500
DTSTAMP:20260425T162305
CREATED:20230607T235058Z
LAST-MODIFIED:20230608T161128Z
UID:1246-1686820500-1686824100@peacepresbyterian.com
SUMMARY:Tai Chi Class
DESCRIPTION:
URL:https://peacepresbyterian.com/event/tai-chi-class-2/
LOCATION:Peace Presbyterian Church\, 333 South 204th Street\, Elkhorn\, 68022\, United States
END:VEVENT
BEGIN:VEVENT
DTSTART;TZID=UTC:20230613T091500
DTEND;TZID=UTC:20230613T101500
DTSTAMP:20260425T162305
CREATED:20230607T233535Z
LAST-MODIFIED:20230608T161109Z
UID:1244-1686647700-1686651300@peacepresbyterian.com
SUMMARY:Tai Chi Class
DESCRIPTION:
URL:https://peacepresbyterian.com/event/tai-chi-class/
LOCATION:Peace Presbyterian Church\, 333 South 204th Street\, Elkhorn\, 68022\, United States
END:VEVENT
BEGIN:VEVENT
DTSTART;TZID=UTC:20230524T120000
DTEND;TZID=UTC:20230524T133000
DTSTAMP:20260425T162305
CREATED:20230420T194516Z
LAST-MODIFIED:20230420T194516Z
UID:1216-1684929600-1684935000@peacepresbyterian.com
SUMMARY:Always With Us Bible Study
DESCRIPTION:
URL:https://peacepresbyterian.com/event/always-with-us-bible-study-2-2-2/
LOCATION:Peace Presbyterian Church\, 333 South 204th Street\, Elkhorn\, 68022\, United States
END:VEVENT
BEGIN:VEVENT
DTSTART;TZID=UTC:20230523T183000
DTEND;TZID=UTC:20230523T193000
DTSTAMP:20260425T162305
CREATED:20230420T194540Z
LAST-MODIFIED:20230420T194540Z
UID:1218-1684866600-1684870200@peacepresbyterian.com
SUMMARY:MOPS
DESCRIPTION:
URL:https://peacepresbyterian.com/event/mops-2/
LOCATION:Peace Presbyterian Church\, 333 South 204th Street\, Elkhorn\, 68022\, United States
END:VEVENT
BEGIN:VEVENT
DTSTART;TZID=UTC:20230521T111500
DTEND;TZID=UTC:20230521T130000
DTSTAMP:20260425T162305
CREATED:20230420T194743Z
LAST-MODIFIED:20230420T194743Z
UID:1224-1684667700-1684674000@peacepresbyterian.com
SUMMARY:Deacon Cookie Sunday
DESCRIPTION:
URL:https://peacepresbyterian.com/event/deacon-cookie-sunday/
LOCATION:Peace Presbyterian Church\, 333 South 204th Street\, Elkhorn\, 68022\, United States
END:VEVENT
BEGIN:VEVENT
DTSTART;TZID=UTC:20230518T120000
DTEND;TZID=UTC:20230518T133000
DTSTAMP:20260425T162305
CREATED:20230420T194704Z
LAST-MODIFIED:20230420T194704Z
UID:1222-1684411200-1684416600@peacepresbyterian.com
SUMMARY:Retirees Potluck Lunch
DESCRIPTION:
URL:https://peacepresbyterian.com/event/retirees-potluck-lunch/
LOCATION:Peace Presbyterian Church\, 333 South 204th Street\, Elkhorn\, 68022\, United States
END:VEVENT
BEGIN:VEVENT
DTSTART;TZID=UTC:20230517T120000
DTEND;TZID=UTC:20230517T133000
DTSTAMP:20260425T162305
CREATED:20230420T194454Z
LAST-MODIFIED:20230420T194454Z
UID:1214-1684324800-1684330200@peacepresbyterian.com
SUMMARY:Always With Us Bible Study
DESCRIPTION:
URL:https://peacepresbyterian.com/event/always-with-us-bible-study-2-2/
LOCATION:Peace Presbyterian Church\, 333 South 204th Street\, Elkhorn\, 68022\, United States
END:VEVENT
BEGIN:VEVENT
DTSTART;TZID=UTC:20230515T183000
DTEND;TZID=UTC:20230515T193000
DTSTAMP:20260425T162305
CREATED:20230420T194620Z
LAST-MODIFIED:20230420T194620Z
UID:1220-1684175400-1684179000@peacepresbyterian.com
SUMMARY:Session Meeting
DESCRIPTION:
URL:https://peacepresbyterian.com/event/session-meeting/
LOCATION:Peace Presbyterian Church\, 333 South 204th Street\, Elkhorn\, 68022\, United States
END:VEVENT
BEGIN:VEVENT
DTSTART;TZID=UTC:20230510T120000
DTEND;TZID=UTC:20230510T133000
DTSTAMP:20260425T162305
CREATED:20230420T194422Z
LAST-MODIFIED:20230420T194422Z
UID:1212-1683720000-1683725400@peacepresbyterian.com
SUMMARY:Always With Us Bible Study
DESCRIPTION:
URL:https://peacepresbyterian.com/event/always-with-us-bible-study-2/
LOCATION:Peace Presbyterian Church\, 333 South 204th Street\, Elkhorn\, 68022\, United States
END:VEVENT
BEGIN:VEVENT
DTSTART;TZID=UTC:20230509T183000
DTEND;TZID=UTC:20230509T193000
DTSTAMP:20260425T162305
CREATED:20230420T194340Z
LAST-MODIFIED:20230420T194340Z
UID:1210-1683657000-1683660600@peacepresbyterian.com
SUMMARY:MOPS
DESCRIPTION:
URL:https://peacepresbyterian.com/event/mops/
LOCATION:Peace Presbyterian Church\, 333 South 204th Street\, Elkhorn\, 68022\, United States
END:VEVENT
BEGIN:VEVENT
DTSTART;TZID=UTC:20230507T101500
DTEND;TZID=UTC:20230507T113000
DTSTAMP:20260425T162305
CREATED:20230420T194141Z
LAST-MODIFIED:20230420T194141Z
UID:1208-1683454500-1683459000@peacepresbyterian.com
SUMMARY:Graduate Recognition; Communion
DESCRIPTION:
URL:https://peacepresbyterian.com/event/graduate-recognition-communion/
LOCATION:Peace Presbyterian Church\, 333 South 204th Street\, Elkhorn\, 68022\, United States
END:VEVENT
BEGIN:VEVENT
DTSTART;TZID=UTC:20230503T120000
DTEND;TZID=UTC:20230503T133000
DTSTAMP:20260425T162305
CREATED:20230420T193457Z
LAST-MODIFIED:20230420T193457Z
UID:1205-1683115200-1683120600@peacepresbyterian.com
SUMMARY:Always With Us Bible Study
DESCRIPTION:
URL:https://peacepresbyterian.com/event/always-with-us-bible-study/
LOCATION:Peace Presbyterian Church\, 333 South 204th Street\, Elkhorn\, 68022\, United States
END:VEVENT
BEGIN:VEVENT
DTSTART;TZID=UTC:20230503T093000
DTEND;TZID=UTC:20230503T230000
DTSTAMP:20260425T162305
CREATED:20230420T193123Z
LAST-MODIFIED:20230420T193123Z
UID:1199-1683106200-1683154800@peacepresbyterian.com
SUMMARY:PW Meeting
DESCRIPTION:
URL:https://peacepresbyterian.com/event/pw-meeting/
LOCATION:Peace Presbyterian Church\, 333 South 204th Street\, Elkhorn\, 68022\, United States
END:VEVENT
BEGIN:VEVENT
DTSTART;VALUE=DATE:20230501
DTEND;VALUE=DATE:20230601
DTSTAMP:20260425T162305
CREATED:20230420T193338Z
LAST-MODIFIED:20230420T193338Z
UID:1203-1682899200-1685577599@peacepresbyterian.com
SUMMARY:Presbyterian Women Diaper Drive for Open Door Mission
DESCRIPTION:
URL:https://peacepresbyterian.com/event/presbyterian-women-diaper-drive-for-open-door-mission/
LOCATION:Peace Presbyterian Church\, 333 South 204th Street\, Elkhorn\, 68022\, United States
END:VEVENT
END:VCALENDAR