BEGIN:VCALENDAR
VERSION:2.0
PRODID:-//Peace Presbyterian Church - ECPv6.15.12.2//NONSGML v1.0//EN
CALSCALE:GREGORIAN
METHOD:PUBLISH
X-WR-CALNAME:Peace Presbyterian Church
X-ORIGINAL-URL:https://peacepresbyterian.com
X-WR-CALDESC:Events for Peace Presbyterian Church
REFRESH-INTERVAL;VALUE=DURATION:PT1H
X-Robots-Tag:noindex
X-PUBLISHED-TTL:PT1H
BEGIN:VTIMEZONE
TZID:UTC
BEGIN:STANDARD
TZOFFSETFROM:+0000
TZOFFSETTO:+0000
TZNAME:UTC
DTSTART:20240101T000000
END:STANDARD
END:VTIMEZONE
BEGIN:VEVENT
DTSTART;TZID=UTC:20260308T000000
DTEND;TZID=UTC:20260308T235959
DTSTAMP:20260423T180212
CREATED:20260225T182134Z
LAST-MODIFIED:20260225T184216Z
UID:17587-1772928000-1773014399@peacepresbyterian.com
SUMMARY:Daylight Savings Time - Spring Forward!
DESCRIPTION:
URL:https://peacepresbyterian.com/event/daylight-savings-time-spring-forward/
END:VEVENT
BEGIN:VEVENT
DTSTART;TZID=UTC:20260304T093000
DTEND;TZID=UTC:20260304T103000
DTSTAMP:20260423T180212
CREATED:20260225T182012Z
LAST-MODIFIED:20260225T184121Z
UID:17585-1772616600-1772620200@peacepresbyterian.com
SUMMARY:Presbyterian Women (PW) Meeting
DESCRIPTION:
URL:https://peacepresbyterian.com/event/pw-meeting-4/
END:VEVENT
BEGIN:VEVENT
DTSTART;TZID=UTC:20260301T101500
DTEND;TZID=UTC:20260301T111500
DTSTAMP:20260423T180212
CREATED:20260225T181821Z
LAST-MODIFIED:20260225T183746Z
UID:17583-1772360100-1772363700@peacepresbyterian.com
SUMMARY:Sunday Worship at Peace
DESCRIPTION:
URL:https://peacepresbyterian.com/event/sunday-worship/
LOCATION:Peace Presbyterian Church\, 333 South 204th Street\, Elkhorn\, 68022\, United States
END:VEVENT
BEGIN:VEVENT
DTSTART;TZID=UTC:20260301T090000
DTEND;TZID=UTC:20260301T100000
DTSTAMP:20260423T180212
CREATED:20260225T181647Z
LAST-MODIFIED:20260225T181647Z
UID:17581-1772355600-1772359200@peacepresbyterian.com
SUMMARY:Communications Committee Meeting In the Library
DESCRIPTION:
URL:https://peacepresbyterian.com/event/communications-committee-meeting-in-the-library-2/
LOCATION:Peace Presbyterian Church\, 333 South 204th Street\, Elkhorn\, 68022\, United States
END:VEVENT
BEGIN:VEVENT
DTSTART;TZID=UTC:20260228T100000
DTEND;TZID=UTC:20260228T140000
DTSTAMP:20260423T180212
CREATED:20260225T181531Z
LAST-MODIFIED:20260225T184013Z
UID:17579-1772272800-1772287200@peacepresbyterian.com
SUMMARY:Leadership Training event - New Horizon Presbyterian Church
DESCRIPTION:
URL:https://peacepresbyterian.com/event/leadership-training-event-new-horizon/
END:VEVENT
BEGIN:VEVENT
DTSTART;TZID=UTC:20260228T090000
DTEND;TZID=UTC:20260228T160000
DTSTAMP:20260423T180212
CREATED:20260225T181443Z
LAST-MODIFIED:20260225T181443Z
UID:17577-1772269200-1772294400@peacepresbyterian.com
SUMMARY:Quilt In A Day Event in Fellowship Hall
DESCRIPTION:
URL:https://peacepresbyterian.com/event/quilt-in-a-day-event-in-fellowship-hall-3/
LOCATION:Peace Presbyterian Church\, 333 South 204th Street\, Elkhorn\, 68022\, United States
END:VEVENT
BEGIN:VEVENT
DTSTART;TZID=UTC:20260225T180000
DTEND;TZID=UTC:20260225T193000
DTSTAMP:20260423T180212
CREATED:20260225T182510Z
LAST-MODIFIED:20260226T153603Z
UID:17593-1772042400-1772047800@peacepresbyterian.com
SUMMARY:She Shed Bible Study
DESCRIPTION:Women’s Bible Study Invitation!\nAll women of the church and friends are invited to a Lenten Bible Study\, “She Shed”.\nThe Study will be held on the following Wednesday evenings during Lent:\nMarch 11\, and March 25. We will gather at 6 pm in the Library for appetizers\, beverages\, and fellowship. This will be followed by a Bible Study lesson\, and an independent\, easy-to-complete art project led by our own Sara Wamsat. \nThe Study will follow the book\, A Time to Grow\, written by Kara Eidson. The Christian Education fund is purchasing the books which are available in the church office. If you are interested in joining us for this Lenten Bible Study\, or if you have questions\, contact Karen Severson at karenseverson15@gmail.com or Mary McArdle at marymac1201@aol.com.
URL:https://peacepresbyterian.com/event/she-shed-bible-study-2/
LOCATION:Peace Presbyterian Church\, 333 South 204th Street\, Elkhorn\, 68022\, United States
END:VEVENT
BEGIN:VEVENT
DTSTART;TZID=UTC:20260225T060000
DTEND;TZID=UTC:20260225T193000
DTSTAMP:20260423T180212
CREATED:20260225T181354Z
LAST-MODIFIED:20260225T181354Z
UID:17575-1771999200-1772047800@peacepresbyterian.com
SUMMARY:She Shed Bible Study
DESCRIPTION:
URL:https://peacepresbyterian.com/event/she-shed-bible-study/
LOCATION:Peace Presbyterian Church\, 333 South 204th Street\, Elkhorn\, 68022\, United States
END:VEVENT
BEGIN:VEVENT
DTSTART;TZID=UTC:20260224T100000
DTEND;TZID=UTC:20260224T110000
DTSTAMP:20260423T180212
CREATED:20260225T181249Z
LAST-MODIFIED:20260225T181249Z
UID:17573-1771927200-1771930800@peacepresbyterian.com
SUMMARY:Covenant Bible Study
DESCRIPTION:
URL:https://peacepresbyterian.com/event/covenant-bible-study-7/
LOCATION:Peace Presbyterian Church\, 333 South 204th Street\, Elkhorn\, 68022\, United States
END:VEVENT
BEGIN:VEVENT
DTSTART;TZID=UTC:20251028T100000
DTEND;TZID=UTC:20251028T110000
DTSTAMP:20260423T180212
CREATED:20250925T184421Z
LAST-MODIFIED:20250925T184421Z
UID:2144-1761645600-1761649200@peacepresbyterian.com
SUMMARY:Covenant Bible Study
DESCRIPTION:
URL:https://peacepresbyterian.com/event/covenant-bible-study-6/
END:VEVENT
BEGIN:VEVENT
DTSTART;TZID=UTC:20251025T130000
DTEND;TZID=UTC:20251025T150000
DTSTAMP:20260423T180212
CREATED:20250925T184400Z
LAST-MODIFIED:20250925T184400Z
UID:2142-1761397200-1761404400@peacepresbyterian.com
SUMMARY:Peaceful Quilters
DESCRIPTION:
URL:https://peacepresbyterian.com/event/peaceful-quilters-9/
END:VEVENT
BEGIN:VEVENT
DTSTART;TZID=UTC:20251020T183000
DTEND;TZID=UTC:20251020T193000
DTSTAMP:20260423T180212
CREATED:20250925T184309Z
LAST-MODIFIED:20250925T184309Z
UID:2138-1760985000-1760988600@peacepresbyterian.com
SUMMARY:Stated Session Meeting
DESCRIPTION:
URL:https://peacepresbyterian.com/event/stated-session-meeting/
END:VEVENT
BEGIN:VEVENT
DTSTART;TZID=UTC:20251019T111500
DTEND;TZID=UTC:20251019T120000
DTSTAMP:20260423T180212
CREATED:20250925T184240Z
LAST-MODIFIED:20250925T184240Z
UID:2136-1760872500-1760875200@peacepresbyterian.com
SUMMARY:Cookie Sunday Fellowship
DESCRIPTION:
URL:https://peacepresbyterian.com/event/cookie-sunday-fellowship-5/
END:VEVENT
BEGIN:VEVENT
DTSTART;TZID=UTC:20251015T120000
DTEND;TZID=UTC:20251015T140000
DTSTAMP:20260423T180212
CREATED:20250925T184207Z
LAST-MODIFIED:20250925T184207Z
UID:2134-1760529600-1760536800@peacepresbyterian.com
SUMMARY:Retirees Potluck Lunch
DESCRIPTION:
URL:https://peacepresbyterian.com/event/retirees-potluck-lunch-6/
END:VEVENT
BEGIN:VEVENT
DTSTART;TZID=UTC:20251014T100000
DTEND;TZID=UTC:20251014T110000
DTSTAMP:20260423T180212
CREATED:20250925T184140Z
LAST-MODIFIED:20250925T184140Z
UID:2132-1760436000-1760439600@peacepresbyterian.com
SUMMARY:Covenant Bible Study
DESCRIPTION:
URL:https://peacepresbyterian.com/event/covenant-bible-study-5/
END:VEVENT
BEGIN:VEVENT
DTSTART;TZID=UTC:20251012T101500
DTEND;TZID=UTC:20251012T111500
DTSTAMP:20260423T180212
CREATED:20250925T184105Z
LAST-MODIFIED:20250925T184105Z
UID:2130-1760264100-1760267700@peacepresbyterian.com
SUMMARY:Worship and Communion Service
DESCRIPTION:
URL:https://peacepresbyterian.com/event/worship-and-communion-service-3/
LOCATION:Peace Presbyterian Church\, 333 South 204th Street\, Elkhorn\, 68022\, United States
END:VEVENT
BEGIN:VEVENT
DTSTART;TZID=UTC:20251005T101500
DTEND;TZID=UTC:20251005T111500
DTSTAMP:20260423T180212
CREATED:20250925T183956Z
LAST-MODIFIED:20250925T183956Z
UID:2126-1759659300-1759662900@peacepresbyterian.com
SUMMARY:Guest Speaker Julie Tartaglia
DESCRIPTION:
URL:https://peacepresbyterian.com/event/guest-speaker-julie-tartaglia/
END:VEVENT
BEGIN:VEVENT
DTSTART;TZID=UTC:20251001T093000
DTEND;TZID=UTC:20251001T103000
DTSTAMP:20260423T180212
CREATED:20250925T183920Z
LAST-MODIFIED:20250925T183920Z
UID:2124-1759311000-1759314600@peacepresbyterian.com
SUMMARY:PW Meeting
DESCRIPTION:
URL:https://peacepresbyterian.com/event/pw-meeting-3/
END:VEVENT
BEGIN:VEVENT
DTSTART;TZID=UTC:20250927T130000
DTEND;TZID=UTC:20250927T150000
DTSTAMP:20260423T180212
CREATED:20250925T183846Z
LAST-MODIFIED:20250925T183846Z
UID:2122-1758978000-1758985200@peacepresbyterian.com
SUMMARY:Peaceful Quilters
DESCRIPTION:
URL:https://peacepresbyterian.com/event/peaceful-quilters-8/
END:VEVENT
BEGIN:VEVENT
DTSTART;TZID=UTC:20250914T190000
DTEND;TZID=UTC:20250914T200000
DTSTAMP:20260423T180212
CREATED:20250818T160252Z
LAST-MODIFIED:20250818T160252Z
UID:2020-1757876400-1757880000@peacepresbyterian.com
SUMMARY:Mitch McVicker Concert in the Sanctuary
DESCRIPTION:Mitch McVicker is a Dove Award winning Christian singer-songwriter who has performed in 49 states and internationally. He is perhaps most well-known for his collaborations with the late\, great Rich Mullins who wrote “Awesome God”.\nWe are honored to have Mitch coming to present a concert of inspirational songs and the sharing of his faith story here at Peace Sunday\, September 14\, at 7:00 pm.
URL:https://peacepresbyterian.com/event/mitch-mcvicker-concert-in-the-sanctuary/
END:VEVENT
BEGIN:VEVENT
DTSTART;TZID=UTC:20250907T103000
DTEND;TZID=UTC:20250907T113000
DTSTAMP:20260423T180212
CREATED:20250818T160144Z
LAST-MODIFIED:20250818T160144Z
UID:2018-1757241000-1757244600@peacepresbyterian.com
SUMMARY:Return to Fall Scheduling\, Worship and Communion Service
DESCRIPTION:
URL:https://peacepresbyterian.com/event/return-to-fall-scheduling-worship-and-communion-service/
LOCATION:Peace Presbyterian Church\, 333 South 204th Street\, Elkhorn\, 68022\, United States
END:VEVENT
BEGIN:VEVENT
DTSTART;TZID=UTC:20250903T093000
DTEND;TZID=UTC:20250903T103000
DTSTAMP:20260423T180212
CREATED:20250818T160052Z
LAST-MODIFIED:20250818T160052Z
UID:2016-1756891800-1756895400@peacepresbyterian.com
SUMMARY:Presbyterian Women Meeting
DESCRIPTION:
URL:https://peacepresbyterian.com/event/presbyterian-women-meeting-3/
END:VEVENT
BEGIN:VEVENT
DTSTART;TZID=UTC:20250827T103000
DTEND;TZID=UTC:20250827T110000
DTSTAMP:20260423T180212
CREATED:20250818T151521Z
LAST-MODIFIED:20250818T151521Z
UID:2002-1756290600-1756292400@peacepresbyterian.com
SUMMARY:Communication Meeting
DESCRIPTION:
URL:https://peacepresbyterian.com/event/communication-meeting/
END:VEVENT
BEGIN:VEVENT
DTSTART;TZID=UTC:20250826T100000
DTEND;TZID=UTC:20250826T110000
DTSTAMP:20260423T180212
CREATED:20250818T155748Z
LAST-MODIFIED:20250818T155748Z
UID:2011-1756202400-1756206000@peacepresbyterian.com
SUMMARY:Covenant Bible Study
DESCRIPTION:
URL:https://peacepresbyterian.com/event/covenant-bible-study-4/
END:VEVENT
BEGIN:VEVENT
DTSTART;TZID=UTC:20250824T103000
DTEND;TZID=UTC:20250824T113000
DTSTAMP:20260423T180212
CREATED:20250818T151715Z
LAST-MODIFIED:20250818T151715Z
UID:2007-1756031400-1756035000@peacepresbyterian.com
SUMMARY:Mission Committee Meeting
DESCRIPTION:
URL:https://peacepresbyterian.com/event/mission-committee-meeting/
END:VEVENT
BEGIN:VEVENT
DTSTART;TZID=UTC:20250820T120000
DTEND;TZID=UTC:20250820T130000
DTSTAMP:20260423T180212
CREATED:20250818T151608Z
LAST-MODIFIED:20250818T151608Z
UID:2005-1755691200-1755694800@peacepresbyterian.com
SUMMARY:Retiree Potluck Lunch
DESCRIPTION:
URL:https://peacepresbyterian.com/event/retiree-potluck-lunch/
END:VEVENT
BEGIN:VEVENT
DTSTART;TZID=UTC:20250818T183000
DTEND;TZID=UTC:20250818T193000
DTSTAMP:20260423T180212
CREATED:20250818T151429Z
LAST-MODIFIED:20250818T151429Z
UID:2000-1755541800-1755545400@peacepresbyterian.com
SUMMARY:Session Meeting
DESCRIPTION:
URL:https://peacepresbyterian.com/event/session-meeting-8/
END:VEVENT
BEGIN:VEVENT
DTSTART;TZID=UTC:20250803T090000
DTEND;TZID=UTC:20250803T140000
DTSTAMP:20260423T180212
CREATED:20250715T170336Z
LAST-MODIFIED:20250715T170336Z
UID:1993-1754211600-1754229600@peacepresbyterian.com
SUMMARY:Red Cross Blood Drive in Fellowship Hall
DESCRIPTION:Sunday\, Aug. 3\, 9:00am-2:00pm in Fellowship Hall.\nPlan now to take part! Please visit RedCrossBlood.org and enter PeacePresbyterian to schedule an appointment. Contact Gloria Woolery at gwoolery12@gmail.com with questions.
URL:https://peacepresbyterian.com/event/red-cross-blood-drive-in-fellowship-hall/
LOCATION:Peace Presbyterian Church\, 333 South 204th Street\, Elkhorn\, 68022\, United States
END:VEVENT
BEGIN:VEVENT
DTSTART;TZID=UTC:20250720T180000
DTEND;TZID=UTC:20250720T200000
DTSTAMP:20260423T180212
CREATED:20250715T170228Z
LAST-MODIFIED:20250715T170228Z
UID:1991-1753034400-1753041600@peacepresbyterian.com
SUMMARY:Crossroads Connection at Peace
DESCRIPTION:
URL:https://peacepresbyterian.com/event/crossroads-connection-at-peace-2/
END:VEVENT
BEGIN:VEVENT
DTSTART;TZID=UTC:20250720T083000
DTEND;TZID=UTC:20250720T093000
DTSTAMP:20260423T180212
CREATED:20250715T170148Z
LAST-MODIFIED:20250715T170148Z
UID:1989-1753000200-1753003800@peacepresbyterian.com
SUMMARY:Specially Called Session Meeting in the Library
DESCRIPTION:
URL:https://peacepresbyterian.com/event/specially-called-session-meeting-in-the-library/
END:VEVENT
END:VCALENDAR