BEGIN:VCALENDAR
VERSION:2.0
PRODID:-//Peace Presbyterian Church - ECPv6.15.12.2//NONSGML v1.0//EN
CALSCALE:GREGORIAN
METHOD:PUBLISH
X-WR-CALNAME:Peace Presbyterian Church
X-ORIGINAL-URL:https://peacepresbyterian.com
X-WR-CALDESC:Events for Peace Presbyterian Church
REFRESH-INTERVAL;VALUE=DURATION:PT1H
X-Robots-Tag:noindex
X-PUBLISHED-TTL:PT1H
BEGIN:VTIMEZONE
TZID:UTC
BEGIN:STANDARD
TZOFFSETFROM:+0000
TZOFFSETTO:+0000
TZNAME:UTC
DTSTART:20220101T000000
END:STANDARD
END:VTIMEZONE
BEGIN:VEVENT
DTSTART;TZID=UTC:20240320T120000
DTEND;TZID=UTC:20240320T140000
DTSTAMP:20260425T103506
CREATED:20240228T000732Z
LAST-MODIFIED:20240228T000732Z
UID:1639-1710936000-1710943200@peacepresbyterian.com
SUMMARY:Retirees Potluck Lunch
DESCRIPTION:
URL:https://peacepresbyterian.com/event/retirees-potluck-lunch-4/
END:VEVENT
BEGIN:VEVENT
DTSTART;TZID=UTC:20240318T183000
DTEND;TZID=UTC:20240318T193000
DTSTAMP:20260425T103506
CREATED:20240228T000656Z
LAST-MODIFIED:20240228T000657Z
UID:1637-1710786600-1710790200@peacepresbyterian.com
SUMMARY:Session Meeting
DESCRIPTION:
URL:https://peacepresbyterian.com/event/session-meeting-5/
END:VEVENT
BEGIN:VEVENT
DTSTART;TZID=UTC:20240317T101500
DTEND;TZID=UTC:20240317T111500
DTSTAMP:20260425T103506
CREATED:20240228T000626Z
LAST-MODIFIED:20240228T000626Z
UID:1635-1710670500-1710674100@peacepresbyterian.com
SUMMARY:Worship Service & Sunday School
DESCRIPTION:
URL:https://peacepresbyterian.com/event/worship-service-sunday-school-8/
LOCATION:Peace Presbyterian Church\, 333 South 204th Street\, Elkhorn\, 68022\, United States
END:VEVENT
BEGIN:VEVENT
DTSTART;TZID=UTC:20240312T100000
DTEND;TZID=UTC:20240312T110000
DTSTAMP:20260425T103506
CREATED:20240228T000553Z
LAST-MODIFIED:20240228T000553Z
UID:1633-1710237600-1710241200@peacepresbyterian.com
SUMMARY:Covenant Bible Study
DESCRIPTION:
URL:https://peacepresbyterian.com/event/covenant-bible-study/
END:VEVENT
BEGIN:VEVENT
DTSTART;TZID=UTC:20240310T101500
DTEND;TZID=UTC:20240310T111500
DTSTAMP:20260425T103506
CREATED:20240228T000516Z
LAST-MODIFIED:20240228T000516Z
UID:1631-1710065700-1710069300@peacepresbyterian.com
SUMMARY:Worship Service & Sunday School
DESCRIPTION:
URL:https://peacepresbyterian.com/event/worship-service-sunday-school-7/
LOCATION:Peace Presbyterian Church\, 333 South 204th Street\, Elkhorn\, 68022\, United States
END:VEVENT
BEGIN:VEVENT
DTSTART;TZID=UTC:20240306T093000
DTEND;TZID=UTC:20240306T103000
DTSTAMP:20260425T103506
CREATED:20240228T000441Z
LAST-MODIFIED:20240228T000441Z
UID:1629-1709717400-1709721000@peacepresbyterian.com
SUMMARY:Presbyterian Women meeting
DESCRIPTION:
URL:https://peacepresbyterian.com/event/presbyterian-women-meeting-2/
END:VEVENT
BEGIN:VEVENT
DTSTART;TZID=UTC:20240303T101500
DTEND;TZID=UTC:20240303T111500
DTSTAMP:20260425T103506
CREATED:20240228T000412Z
LAST-MODIFIED:20240228T000412Z
UID:1627-1709460900-1709464500@peacepresbyterian.com
SUMMARY:Worship Service & Sunday School
DESCRIPTION:
URL:https://peacepresbyterian.com/event/worship-service-sunday-school-6/
LOCATION:Peace Presbyterian Church\, 333 South 204th Street\, Elkhorn\, 68022\, United States
END:VEVENT
BEGIN:VEVENT
DTSTART;TZID=UTC:20240227T100000
DTEND;TZID=UTC:20240227T110000
DTSTAMP:20260425T103506
CREATED:20240203T185404Z
LAST-MODIFIED:20240203T185404Z
UID:1623-1709028000-1709031600@peacepresbyterian.com
SUMMARY:Covenant Bible Study in the Library
DESCRIPTION:
URL:https://peacepresbyterian.com/event/covenant-bible-study-in-the-library-7/
END:VEVENT
BEGIN:VEVENT
DTSTART;TZID=UTC:20240225T111500
DTEND;TZID=UTC:20240225T121500
DTSTAMP:20260425T103506
CREATED:20240203T185331Z
LAST-MODIFIED:20240203T185331Z
UID:1621-1708859700-1708863300@peacepresbyterian.com
SUMMARY:Deacon Meeting in the Library
DESCRIPTION:
URL:https://peacepresbyterian.com/event/deacon-meeting-in-the-library/
END:VEVENT
BEGIN:VEVENT
DTSTART;TZID=UTC:20240225T101500
DTEND;TZID=UTC:20240225T111500
DTSTAMP:20260425T103506
CREATED:20240203T185226Z
LAST-MODIFIED:20240203T185226Z
UID:1619-1708856100-1708859700@peacepresbyterian.com
SUMMARY:Worship Service & Sunday School
DESCRIPTION:
URL:https://peacepresbyterian.com/event/worship-service-sunday-school-5/
LOCATION:Peace Presbyterian Church\, 333 South 204th Street\, Elkhorn\, 68022\, United States
END:VEVENT
BEGIN:VEVENT
DTSTART;TZID=UTC:20240221T120000
DTEND;TZID=UTC:20240221T130000
DTSTAMP:20260425T103506
CREATED:20240203T185136Z
LAST-MODIFIED:20240203T185136Z
UID:1617-1708516800-1708520400@peacepresbyterian.com
SUMMARY:Retirees Potluck in the Library
DESCRIPTION:
URL:https://peacepresbyterian.com/event/retirees-potluck-in-the-library/
END:VEVENT
BEGIN:VEVENT
DTSTART;TZID=UTC:20240221T120000
DTEND;TZID=UTC:20240221T130000
DTSTAMP:20260425T103506
CREATED:20240106T183712Z
LAST-MODIFIED:20240112T165718Z
UID:1578-1708516800-1708520400@peacepresbyterian.com
SUMMARY:Retiree Potluck in The Library
DESCRIPTION:
URL:https://peacepresbyterian.com/event/retiree-potluck-in-the-library-2/
END:VEVENT
BEGIN:VEVENT
DTSTART;TZID=UTC:20240218T111500
DTEND;TZID=UTC:20240218T121500
DTSTAMP:20260425T103506
CREATED:20240203T185052Z
LAST-MODIFIED:20240203T185052Z
UID:1615-1708254900-1708258500@peacepresbyterian.com
SUMMARY:Cookie Sunday Fellowship
DESCRIPTION:
URL:https://peacepresbyterian.com/event/cookie-sunday-fellowship-2/
END:VEVENT
BEGIN:VEVENT
DTSTART;TZID=UTC:20240218T101500
DTEND;TZID=UTC:20240218T111500
DTSTAMP:20260425T103506
CREATED:20240203T184926Z
LAST-MODIFIED:20240203T184926Z
UID:1613-1708251300-1708254900@peacepresbyterian.com
SUMMARY:Worship Service & Sunday School
DESCRIPTION:
URL:https://peacepresbyterian.com/event/worship-service-sunday-school-4/
LOCATION:Peace Presbyterian Church\, 333 South 204th Street\, Elkhorn\, 68022\, United States
END:VEVENT
BEGIN:VEVENT
DTSTART;TZID=UTC:20240214T183000
DTEND;TZID=UTC:20240214T193000
DTSTAMP:20260425T103506
CREATED:20240203T184758Z
LAST-MODIFIED:20240203T184758Z
UID:1611-1707935400-1707939000@peacepresbyterian.com
SUMMARY:Ash Wednesday Service
DESCRIPTION:
URL:https://peacepresbyterian.com/event/ash-wednesday-service/
END:VEVENT
BEGIN:VEVENT
DTSTART;TZID=UTC:20240213T100000
DTEND;TZID=UTC:20240213T110000
DTSTAMP:20260425T103506
CREATED:20240203T184717Z
LAST-MODIFIED:20240203T184717Z
UID:1609-1707818400-1707822000@peacepresbyterian.com
SUMMARY:Covenant Bible Study in the Library
DESCRIPTION:
URL:https://peacepresbyterian.com/event/covenant-bible-study-in-the-library-6/
END:VEVENT
BEGIN:VEVENT
DTSTART;TZID=UTC:20240211T111500
DTEND;TZID=UTC:20240211T121500
DTSTAMP:20260425T103506
CREATED:20240203T184617Z
LAST-MODIFIED:20240203T184642Z
UID:1606-1707650100-1707653700@peacepresbyterian.com
SUMMARY:Souper Bowl Soup Fellowship
DESCRIPTION:The Super Bowl is next Sunday\, February 11. Again this year Peace Church will celebrate with the Souper Bowl of Caring! We will do so in two ways. First\, Pastor Brian has organized a collection for canned soup. Everyone is encouraged to vote for the team you think will win the game\, or who you are rooting for\, by donating cans of beef soup for the Chiefs or cans of chicken soup for the 49ers. Place the cans by your team’s logo on the table that is set up in the foyer. If you don’t have a team preference\, bring cans of soup and place them in the middle of the table. Pastor Brian will count the cans to see if Peace can accurately predict the winner of the big game. The cans of soup collected will be donated to our local food bank to provide a meal of love for those who may not be able to feast during the game.\n\nIn addition to the soup drive\, following the worship service the Peace Youth Group will provide everyone with a meal of soup in Fellowship Hall. Rather than receiving a free-will offering as has been done in the past\, they are asking that everyone donate to the soup collection in support of their favorite team.
URL:https://peacepresbyterian.com/event/souper-bowl-soup-fellowship/
END:VEVENT
BEGIN:VEVENT
DTSTART;TZID=UTC:20240211T101500
DTEND;TZID=UTC:20240211T111500
DTSTAMP:20260425T103506
CREATED:20240203T184502Z
LAST-MODIFIED:20240203T184532Z
UID:1604-1707646500-1707650100@peacepresbyterian.com
SUMMARY:Worship Service & Sunday School
DESCRIPTION:
URL:https://peacepresbyterian.com/event/worship-service-sunday-school-3/
LOCATION:Peace Presbyterian Church\, 333 South 204th Street\, Elkhorn\, 68022\, United States
END:VEVENT
BEGIN:VEVENT
DTSTART;TZID=UTC:20240210T100000
DTEND;TZID=UTC:20240210T110000
DTSTAMP:20260425T103506
CREATED:20240203T184339Z
LAST-MODIFIED:20240203T184339Z
UID:1602-1707559200-1707562800@peacepresbyterian.com
SUMMARY:Pastor Long's Installation
DESCRIPTION:
URL:https://peacepresbyterian.com/event/pastor-longs-installation/
END:VEVENT
BEGIN:VEVENT
DTSTART;TZID=UTC:20240207T093000
DTEND;TZID=UTC:20240207T103000
DTSTAMP:20260425T103506
CREATED:20240203T184308Z
LAST-MODIFIED:20240203T184308Z
UID:1600-1707298200-1707301800@peacepresbyterian.com
SUMMARY:PW Meeting
DESCRIPTION:
URL:https://peacepresbyterian.com/event/pw-meeting-2/
END:VEVENT
BEGIN:VEVENT
DTSTART;TZID=UTC:20240204T101500
DTEND;TZID=UTC:20240204T111500
DTSTAMP:20260425T103506
CREATED:20240203T184226Z
LAST-MODIFIED:20240203T184226Z
UID:1597-1707041700-1707045300@peacepresbyterian.com
SUMMARY:Worship Service & Sunday School
DESCRIPTION:
URL:https://peacepresbyterian.com/event/worship-service-sunday-school-2/
LOCATION:Peace Presbyterian Church\, 333 South 204th Street\, Elkhorn\, 68022\, United States
END:VEVENT
BEGIN:VEVENT
DTSTART;TZID=UTC:20240128T111500
DTEND;TZID=UTC:20240128T121500
DTSTAMP:20260425T103506
CREATED:20240106T183954Z
LAST-MODIFIED:20240106T184222Z
UID:1584-1706440500-1706444100@peacepresbyterian.com
SUMMARY:Annual Congregational Meeting and Election of Officers
DESCRIPTION:THE ANNUAL CONGREGATIONAL MEETING AND ELECTION OF OFFICERS will be held on January 28 after the 10:15am worship service.\n\nThe Nominating Committee seeks your input in the nomination process. You are asked to submit names of those you would like to nominate for Deacon or Elder for the class of 2024 by completing a form that is available in the bulletin and on the table in the narthex. Please submit your nominations by January 17 so that nominees can be contacted and allowed time to respond. Thank you for your help and your prayerful support!
URL:https://peacepresbyterian.com/event/annual-congregational-meeting-and-election-of-officers/
END:VEVENT
BEGIN:VEVENT
DTSTART;TZID=UTC:20240128T101500
DTEND;TZID=UTC:20240128T111500
DTSTAMP:20260425T103506
CREATED:20240106T183905Z
LAST-MODIFIED:20240106T183905Z
UID:1582-1706436900-1706440500@peacepresbyterian.com
SUMMARY:Worship Service & Sunday School
DESCRIPTION:
URL:https://peacepresbyterian.com/event/worship-service-sunday-school/
LOCATION:Peace Presbyterian Church\, 333 South 204th Street\, Elkhorn\, 68022\, United States
END:VEVENT
BEGIN:VEVENT
DTSTART;TZID=UTC:20240127T090000
DTEND;TZID=UTC:20240127T163000
DTSTAMP:20260425T103506
CREATED:20240112T165441Z
LAST-MODIFIED:20240112T165441Z
UID:1590-1706346000-1706373000@peacepresbyterian.com
SUMMARY:Quilt-In-A-Day
DESCRIPTION:Mark Your Calendars now!!  Everyone is invited to be here for “Quilt-In-A–Day”\, January 27\, 9am to 4pm\, in Fellowship Hall. Bring your sewing machine\, if you have one. If you need a machine\, contact Nancy Haack and one will be provided for you.  Stay as long as you like.  A soup lunch will be provided.  Contact Nancy for more details (nshaack@gmail.com\, 402-651-5541).
URL:https://peacepresbyterian.com/event/quilt-in-a-day/
END:VEVENT
BEGIN:VEVENT
DTSTART;TZID=UTC:20240123T183000
DTEND;TZID=UTC:20240123T193000
DTSTAMP:20260425T103506
CREATED:20240106T183753Z
LAST-MODIFIED:20240106T183753Z
UID:1580-1706034600-1706038200@peacepresbyterian.com
SUMMARY:Session Meeting in the Library (note date change)
DESCRIPTION:
URL:https://peacepresbyterian.com/event/session-meeting-in-the-library-note-date-change-2/
END:VEVENT
BEGIN:VEVENT
DTSTART;TZID=UTC:20240118T180000
DTEND;TZID=UTC:20240118T190000
DTSTAMP:20260425T103506
CREATED:20240106T183602Z
LAST-MODIFIED:20240112T165311Z
UID:1576-1705600800-1705604400@peacepresbyterian.com
SUMMARY:Man Cave in Fellowship Hall (rescheduled from Jan 11)
DESCRIPTION:“Welcome back\, the cave is open!”  Men of Peace\, plan to join us for our first 2024 installment of Man Cave on Thursday\, January 18\, 6:00pm\, in the Library. Food\, fellowship\, a short devotional\, and even a splash of your favorite beverage. Please RSVP to david.fulton@fdiconsultinginc.com by Monday\, January 8th to ensure we have enough bread to break. Looking forward to seeing you all on the 18th.
URL:https://peacepresbyterian.com/event/man-cave-in-the-library/
END:VEVENT
BEGIN:VEVENT
DTSTART;TZID=UTC:20240107T101500
DTEND;TZID=UTC:20240107T111500
DTSTAMP:20260425T103506
CREATED:20240106T183521Z
LAST-MODIFIED:20240106T183521Z
UID:1574-1704622500-1704626100@peacepresbyterian.com
SUMMARY:Worship Service
DESCRIPTION:
URL:https://peacepresbyterian.com/event/worship-service-2/
LOCATION:Peace Presbyterian Church\, 333 South 204th Street\, Elkhorn\, 68022\, United States
END:VEVENT
BEGIN:VEVENT
DTSTART;TZID=UTC:20231231T101500
DTEND;TZID=UTC:20231231T111500
DTSTAMP:20260425T103506
CREATED:20231203T183724Z
LAST-MODIFIED:20231203T183724Z
UID:1571-1704017700-1704021300@peacepresbyterian.com
SUMMARY:Worship Service
DESCRIPTION:
URL:https://peacepresbyterian.com/event/worship-service/
END:VEVENT
BEGIN:VEVENT
DTSTART;TZID=UTC:20231224T183000
DTEND;TZID=UTC:20231224T193000
DTSTAMP:20260425T103506
CREATED:20231203T183649Z
LAST-MODIFIED:20231203T183649Z
UID:1569-1703442600-1703446200@peacepresbyterian.com
SUMMARY:Christmas Eve Service
DESCRIPTION:
URL:https://peacepresbyterian.com/event/christmas-eve-service/
END:VEVENT
BEGIN:VEVENT
DTSTART;TZID=UTC:20231224T101500
DTEND;TZID=UTC:20231224T111500
DTSTAMP:20260425T103506
CREATED:20231203T183622Z
LAST-MODIFIED:20231203T183622Z
UID:1567-1703412900-1703416500@peacepresbyterian.com
SUMMARY:Morning Worship Service (No Sunday School)
DESCRIPTION:
URL:https://peacepresbyterian.com/event/morning-worship-service-no-sunday-school/
END:VEVENT
END:VCALENDAR