BEGIN:VCALENDAR
VERSION:2.0
PRODID:-//Peace Presbyterian Church - ECPv6.15.12.2//NONSGML v1.0//EN
CALSCALE:GREGORIAN
METHOD:PUBLISH
X-WR-CALNAME:Peace Presbyterian Church
X-ORIGINAL-URL:https://peacepresbyterian.com
X-WR-CALDESC:Events for Peace Presbyterian Church
REFRESH-INTERVAL;VALUE=DURATION:PT1H
X-Robots-Tag:noindex
X-PUBLISHED-TTL:PT1H
BEGIN:VTIMEZONE
TZID:UTC
BEGIN:STANDARD
TZOFFSETFROM:+0000
TZOFFSETTO:+0000
TZNAME:UTC
DTSTART:20220101T000000
END:STANDARD
END:VTIMEZONE
BEGIN:VEVENT
DTSTART;TZID=UTC:20230510T120000
DTEND;TZID=UTC:20230510T133000
DTSTAMP:20260425T131956
CREATED:20230420T194422Z
LAST-MODIFIED:20230420T194422Z
UID:1212-1683720000-1683725400@peacepresbyterian.com
SUMMARY:Always With Us Bible Study
DESCRIPTION:
URL:https://peacepresbyterian.com/event/always-with-us-bible-study-2/
LOCATION:Peace Presbyterian Church\, 333 South 204th Street\, Elkhorn\, 68022\, United States
END:VEVENT
BEGIN:VEVENT
DTSTART;TZID=UTC:20230509T183000
DTEND;TZID=UTC:20230509T193000
DTSTAMP:20260425T131956
CREATED:20230420T194340Z
LAST-MODIFIED:20230420T194340Z
UID:1210-1683657000-1683660600@peacepresbyterian.com
SUMMARY:MOPS
DESCRIPTION:
URL:https://peacepresbyterian.com/event/mops/
LOCATION:Peace Presbyterian Church\, 333 South 204th Street\, Elkhorn\, 68022\, United States
END:VEVENT
BEGIN:VEVENT
DTSTART;TZID=UTC:20230507T101500
DTEND;TZID=UTC:20230507T113000
DTSTAMP:20260425T131956
CREATED:20230420T194141Z
LAST-MODIFIED:20230420T194141Z
UID:1208-1683454500-1683459000@peacepresbyterian.com
SUMMARY:Graduate Recognition; Communion
DESCRIPTION:
URL:https://peacepresbyterian.com/event/graduate-recognition-communion/
LOCATION:Peace Presbyterian Church\, 333 South 204th Street\, Elkhorn\, 68022\, United States
END:VEVENT
BEGIN:VEVENT
DTSTART;TZID=UTC:20230503T120000
DTEND;TZID=UTC:20230503T133000
DTSTAMP:20260425T131956
CREATED:20230420T193457Z
LAST-MODIFIED:20230420T193457Z
UID:1205-1683115200-1683120600@peacepresbyterian.com
SUMMARY:Always With Us Bible Study
DESCRIPTION:
URL:https://peacepresbyterian.com/event/always-with-us-bible-study/
LOCATION:Peace Presbyterian Church\, 333 South 204th Street\, Elkhorn\, 68022\, United States
END:VEVENT
BEGIN:VEVENT
DTSTART;TZID=UTC:20230503T093000
DTEND;TZID=UTC:20230503T230000
DTSTAMP:20260425T131956
CREATED:20230420T193123Z
LAST-MODIFIED:20230420T193123Z
UID:1199-1683106200-1683154800@peacepresbyterian.com
SUMMARY:PW Meeting
DESCRIPTION:
URL:https://peacepresbyterian.com/event/pw-meeting/
LOCATION:Peace Presbyterian Church\, 333 South 204th Street\, Elkhorn\, 68022\, United States
END:VEVENT
BEGIN:VEVENT
DTSTART;VALUE=DATE:20230501
DTEND;VALUE=DATE:20230601
DTSTAMP:20260425T131956
CREATED:20230420T193338Z
LAST-MODIFIED:20230420T193338Z
UID:1203-1682899200-1685577599@peacepresbyterian.com
SUMMARY:Presbyterian Women Diaper Drive for Open Door Mission
DESCRIPTION:
URL:https://peacepresbyterian.com/event/presbyterian-women-diaper-drive-for-open-door-mission/
LOCATION:Peace Presbyterian Church\, 333 South 204th Street\, Elkhorn\, 68022\, United States
END:VEVENT
END:VCALENDAR