BEGIN:VCALENDAR
VERSION:2.0
PRODID:-//Peace Presbyterian Church - ECPv6.15.12.2//NONSGML v1.0//EN
CALSCALE:GREGORIAN
METHOD:PUBLISH
X-WR-CALNAME:Peace Presbyterian Church
X-ORIGINAL-URL:https://peacepresbyterian.com
X-WR-CALDESC:Events for Peace Presbyterian Church
REFRESH-INTERVAL;VALUE=DURATION:PT1H
X-Robots-Tag:noindex
X-PUBLISHED-TTL:PT1H
BEGIN:VTIMEZONE
TZID:UTC
BEGIN:STANDARD
TZOFFSETFROM:+0000
TZOFFSETTO:+0000
TZNAME:UTC
DTSTART:20230101T000000
END:STANDARD
END:VTIMEZONE
BEGIN:VEVENT
DTSTART;TZID=UTC:20240616T093000
DTEND;TZID=UTC:20240616T103000
DTSTAMP:20260425T131521
CREATED:20240613T171612Z
LAST-MODIFIED:20240613T171612Z
UID:1694-1718530200-1718533800@peacepresbyterian.com
SUMMARY:Morning Worship\, Guest Speaker Elder David Fulton
DESCRIPTION:
URL:https://peacepresbyterian.com/event/morning-worship-guest-speaker-elder-david-fulton/
LOCATION:Peace Presbyterian Church\, 333 South 204th Street\, Elkhorn\, 68022\, United States
END:VEVENT
BEGIN:VEVENT
DTSTART;TZID=UTC:20240519T101500
DTEND;TZID=UTC:20240519T113000
DTSTAMP:20260425T131521
CREATED:20240428T023809Z
LAST-MODIFIED:20240428T023809Z
UID:1681-1716113700-1716118200@peacepresbyterian.com
SUMMARY:Peace 35th Anniversary Celebration
DESCRIPTION:
URL:https://peacepresbyterian.com/event/peace-35th-anniversary-celebration/
END:VEVENT
BEGIN:VEVENT
DTSTART;TZID=UTC:20240518T130000
DTEND;TZID=UTC:20240518T143000
DTSTAMP:20260425T131521
CREATED:20240428T023720Z
LAST-MODIFIED:20240428T023720Z
UID:1679-1716037200-1716042600@peacepresbyterian.com
SUMMARY:Peaceful Quilters
DESCRIPTION:
URL:https://peacepresbyterian.com/event/peaceful-quilters-4/
END:VEVENT
BEGIN:VEVENT
DTSTART;TZID=UTC:20240515T120000
DTEND;TZID=UTC:20240515T133000
DTSTAMP:20260425T131521
CREATED:20240428T023642Z
LAST-MODIFIED:20240428T023642Z
UID:1677-1715774400-1715779800@peacepresbyterian.com
SUMMARY:Retirees Potluck Lunch
DESCRIPTION:
URL:https://peacepresbyterian.com/event/retirees-potluck-lunch-5/
END:VEVENT
BEGIN:VEVENT
DTSTART;TZID=UTC:20240514T100000
DTEND;TZID=UTC:20240514T120000
DTSTAMP:20260425T131521
CREATED:20240428T023527Z
LAST-MODIFIED:20240428T023527Z
UID:1675-1715680800-1715688000@peacepresbyterian.com
SUMMARY:Covenant Bible Study in the Library
DESCRIPTION:
URL:https://peacepresbyterian.com/event/covenant-bible-study-in-the-library-9/
END:VEVENT
BEGIN:VEVENT
DTSTART;TZID=UTC:20240507T080000
DTEND;TZID=UTC:20240507T200000
DTSTAMP:20260425T131521
CREATED:20240428T023449Z
LAST-MODIFIED:20240428T023449Z
UID:1673-1715068800-1715112000@peacepresbyterian.com
SUMMARY:Primary Election Polling at Peace
DESCRIPTION:
URL:https://peacepresbyterian.com/event/primary-election-polling-at-peace/
END:VEVENT
BEGIN:VEVENT
DTSTART;TZID=UTC:20240501T093000
DTEND;TZID=UTC:20240501T110000
DTSTAMP:20260425T131521
CREATED:20240428T023341Z
LAST-MODIFIED:20240428T023341Z
UID:1671-1714555800-1714561200@peacepresbyterian.com
SUMMARY:PW Meeting in the Library
DESCRIPTION:
URL:https://peacepresbyterian.com/event/pw-meeting-in-the-library/
END:VEVENT
BEGIN:VEVENT
DTSTART;TZID=UTC:20240424T120000
DTEND;TZID=UTC:20240424T140000
DTSTAMP:20260425T131521
CREATED:20240415T144826Z
LAST-MODIFIED:20240415T144826Z
UID:1668-1713960000-1713967200@peacepresbyterian.com
SUMMARY:Peace Retiree Luncheon in the Library
DESCRIPTION:
URL:https://peacepresbyterian.com/event/peace-retiree-luncheon-in-the-library/
END:VEVENT
BEGIN:VEVENT
DTSTART;TZID=UTC:20240423T100000
DTEND;TZID=UTC:20240423T120000
DTSTAMP:20260425T131521
CREATED:20240406T155645Z
LAST-MODIFIED:20240406T155645Z
UID:1665-1713866400-1713873600@peacepresbyterian.com
SUMMARY:Covenant Bible Study
DESCRIPTION:
URL:https://peacepresbyterian.com/event/covenant-bible-study-3/
END:VEVENT
BEGIN:VEVENT
DTSTART;TZID=UTC:20240421T111500
DTEND;TZID=UTC:20240421T123000
DTSTAMP:20260425T131521
CREATED:20240406T155607Z
LAST-MODIFIED:20240406T155607Z
UID:1663-1713698100-1713702600@peacepresbyterian.com
SUMMARY:PW Salad Luncheon in Fellowship Hall
DESCRIPTION:Everyone is invited to attend the Annual PW Salad Luncheon on Sunday\, April 21\, following the morning worship service in Fellowship Hall. A delicious assortment of salads will be available. A freewill offering will be received that will support the many mission projects the PW carries out annually.
URL:https://peacepresbyterian.com/event/pw-salad-luncheon-in-fellowship-hall/
END:VEVENT
BEGIN:VEVENT
DTSTART;TZID=UTC:20240420T130000
DTEND;TZID=UTC:20240420T150000
DTSTAMP:20260425T131521
CREATED:20240406T155453Z
LAST-MODIFIED:20240406T155453Z
UID:1661-1713618000-1713625200@peacepresbyterian.com
SUMMARY:Peaceful Quilters
DESCRIPTION:
URL:https://peacepresbyterian.com/event/peaceful-quilters-3/
END:VEVENT
BEGIN:VEVENT
DTSTART;TZID=UTC:20240409T100000
DTEND;TZID=UTC:20240409T120000
DTSTAMP:20260425T131521
CREATED:20240406T155421Z
LAST-MODIFIED:20240406T155421Z
UID:1659-1712656800-1712664000@peacepresbyterian.com
SUMMARY:Covenant Bible Study in the Library
DESCRIPTION:
URL:https://peacepresbyterian.com/event/covenant-bible-study-in-the-library-8/
END:VEVENT
BEGIN:VEVENT
DTSTART;TZID=UTC:20240331T101500
DTEND;TZID=UTC:20240331T111500
DTSTAMP:20260425T131521
CREATED:20240228T001034Z
LAST-MODIFIED:20240228T001034Z
UID:1649-1711880100-1711883700@peacepresbyterian.com
SUMMARY:Easter Sunday Service
DESCRIPTION:
URL:https://peacepresbyterian.com/event/easter-sunday-service/
LOCATION:Peace Presbyterian Church\, 333 South 204th Street\, Elkhorn\, 68022\, United States
END:VEVENT
BEGIN:VEVENT
DTSTART;TZID=UTC:20240329T183000
DTEND;TZID=UTC:20240329T193000
DTSTAMP:20260425T131521
CREATED:20240228T000958Z
LAST-MODIFIED:20240228T000958Z
UID:1647-1711737000-1711740600@peacepresbyterian.com
SUMMARY:Good Friday Service
DESCRIPTION:
URL:https://peacepresbyterian.com/event/good-friday-service/
END:VEVENT
BEGIN:VEVENT
DTSTART;TZID=UTC:20240328T183000
DTEND;TZID=UTC:20240328T193000
DTSTAMP:20260425T131521
CREATED:20240228T000921Z
LAST-MODIFIED:20240228T000921Z
UID:1645-1711650600-1711654200@peacepresbyterian.com
SUMMARY:Maundy Thursday Service
DESCRIPTION:
URL:https://peacepresbyterian.com/event/maundy-thursday-service/
END:VEVENT
BEGIN:VEVENT
DTSTART;TZID=UTC:20240326T100000
DTEND;TZID=UTC:20240326T110000
DTSTAMP:20260425T131521
CREATED:20240228T000853Z
LAST-MODIFIED:20240228T000853Z
UID:1643-1711447200-1711450800@peacepresbyterian.com
SUMMARY:Covenant Bible Study
DESCRIPTION:
URL:https://peacepresbyterian.com/event/covenant-bible-study-2/
END:VEVENT
BEGIN:VEVENT
DTSTART;TZID=UTC:20240324T101500
DTEND;TZID=UTC:20240324T111500
DTSTAMP:20260425T131521
CREATED:20240228T000809Z
LAST-MODIFIED:20240228T000809Z
UID:1641-1711275300-1711278900@peacepresbyterian.com
SUMMARY:Palm Sunday Worship Service & Sunday School
DESCRIPTION:
URL:https://peacepresbyterian.com/event/palm-sunday-worship-service-sunday-school/
LOCATION:Peace Presbyterian Church\, 333 South 204th Street\, Elkhorn\, 68022\, United States
END:VEVENT
BEGIN:VEVENT
DTSTART;TZID=UTC:20240320T120000
DTEND;TZID=UTC:20240320T140000
DTSTAMP:20260425T131521
CREATED:20240228T000732Z
LAST-MODIFIED:20240228T000732Z
UID:1639-1710936000-1710943200@peacepresbyterian.com
SUMMARY:Retirees Potluck Lunch
DESCRIPTION:
URL:https://peacepresbyterian.com/event/retirees-potluck-lunch-4/
END:VEVENT
BEGIN:VEVENT
DTSTART;TZID=UTC:20240318T183000
DTEND;TZID=UTC:20240318T193000
DTSTAMP:20260425T131521
CREATED:20240228T000656Z
LAST-MODIFIED:20240228T000657Z
UID:1637-1710786600-1710790200@peacepresbyterian.com
SUMMARY:Session Meeting
DESCRIPTION:
URL:https://peacepresbyterian.com/event/session-meeting-5/
END:VEVENT
BEGIN:VEVENT
DTSTART;TZID=UTC:20240317T101500
DTEND;TZID=UTC:20240317T111500
DTSTAMP:20260425T131521
CREATED:20240228T000626Z
LAST-MODIFIED:20240228T000626Z
UID:1635-1710670500-1710674100@peacepresbyterian.com
SUMMARY:Worship Service & Sunday School
DESCRIPTION:
URL:https://peacepresbyterian.com/event/worship-service-sunday-school-8/
LOCATION:Peace Presbyterian Church\, 333 South 204th Street\, Elkhorn\, 68022\, United States
END:VEVENT
BEGIN:VEVENT
DTSTART;TZID=UTC:20240312T100000
DTEND;TZID=UTC:20240312T110000
DTSTAMP:20260425T131521
CREATED:20240228T000553Z
LAST-MODIFIED:20240228T000553Z
UID:1633-1710237600-1710241200@peacepresbyterian.com
SUMMARY:Covenant Bible Study
DESCRIPTION:
URL:https://peacepresbyterian.com/event/covenant-bible-study/
END:VEVENT
BEGIN:VEVENT
DTSTART;TZID=UTC:20240310T101500
DTEND;TZID=UTC:20240310T111500
DTSTAMP:20260425T131521
CREATED:20240228T000516Z
LAST-MODIFIED:20240228T000516Z
UID:1631-1710065700-1710069300@peacepresbyterian.com
SUMMARY:Worship Service & Sunday School
DESCRIPTION:
URL:https://peacepresbyterian.com/event/worship-service-sunday-school-7/
LOCATION:Peace Presbyterian Church\, 333 South 204th Street\, Elkhorn\, 68022\, United States
END:VEVENT
BEGIN:VEVENT
DTSTART;TZID=UTC:20240306T093000
DTEND;TZID=UTC:20240306T103000
DTSTAMP:20260425T131521
CREATED:20240228T000441Z
LAST-MODIFIED:20240228T000441Z
UID:1629-1709717400-1709721000@peacepresbyterian.com
SUMMARY:Presbyterian Women meeting
DESCRIPTION:
URL:https://peacepresbyterian.com/event/presbyterian-women-meeting-2/
END:VEVENT
BEGIN:VEVENT
DTSTART;TZID=UTC:20240303T101500
DTEND;TZID=UTC:20240303T111500
DTSTAMP:20260425T131521
CREATED:20240228T000412Z
LAST-MODIFIED:20240228T000412Z
UID:1627-1709460900-1709464500@peacepresbyterian.com
SUMMARY:Worship Service & Sunday School
DESCRIPTION:
URL:https://peacepresbyterian.com/event/worship-service-sunday-school-6/
LOCATION:Peace Presbyterian Church\, 333 South 204th Street\, Elkhorn\, 68022\, United States
END:VEVENT
BEGIN:VEVENT
DTSTART;TZID=UTC:20240227T100000
DTEND;TZID=UTC:20240227T110000
DTSTAMP:20260425T131521
CREATED:20240203T185404Z
LAST-MODIFIED:20240203T185404Z
UID:1623-1709028000-1709031600@peacepresbyterian.com
SUMMARY:Covenant Bible Study in the Library
DESCRIPTION:
URL:https://peacepresbyterian.com/event/covenant-bible-study-in-the-library-7/
END:VEVENT
BEGIN:VEVENT
DTSTART;TZID=UTC:20240225T111500
DTEND;TZID=UTC:20240225T121500
DTSTAMP:20260425T131521
CREATED:20240203T185331Z
LAST-MODIFIED:20240203T185331Z
UID:1621-1708859700-1708863300@peacepresbyterian.com
SUMMARY:Deacon Meeting in the Library
DESCRIPTION:
URL:https://peacepresbyterian.com/event/deacon-meeting-in-the-library/
END:VEVENT
BEGIN:VEVENT
DTSTART;TZID=UTC:20240225T101500
DTEND;TZID=UTC:20240225T111500
DTSTAMP:20260425T131521
CREATED:20240203T185226Z
LAST-MODIFIED:20240203T185226Z
UID:1619-1708856100-1708859700@peacepresbyterian.com
SUMMARY:Worship Service & Sunday School
DESCRIPTION:
URL:https://peacepresbyterian.com/event/worship-service-sunday-school-5/
LOCATION:Peace Presbyterian Church\, 333 South 204th Street\, Elkhorn\, 68022\, United States
END:VEVENT
BEGIN:VEVENT
DTSTART;TZID=UTC:20240221T120000
DTEND;TZID=UTC:20240221T130000
DTSTAMP:20260425T131521
CREATED:20240203T185136Z
LAST-MODIFIED:20240203T185136Z
UID:1617-1708516800-1708520400@peacepresbyterian.com
SUMMARY:Retirees Potluck in the Library
DESCRIPTION:
URL:https://peacepresbyterian.com/event/retirees-potluck-in-the-library/
END:VEVENT
BEGIN:VEVENT
DTSTART;TZID=UTC:20240221T120000
DTEND;TZID=UTC:20240221T130000
DTSTAMP:20260425T131521
CREATED:20240106T183712Z
LAST-MODIFIED:20240112T165718Z
UID:1578-1708516800-1708520400@peacepresbyterian.com
SUMMARY:Retiree Potluck in The Library
DESCRIPTION:
URL:https://peacepresbyterian.com/event/retiree-potluck-in-the-library-2/
END:VEVENT
BEGIN:VEVENT
DTSTART;TZID=UTC:20240218T111500
DTEND;TZID=UTC:20240218T121500
DTSTAMP:20260425T131521
CREATED:20240203T185052Z
LAST-MODIFIED:20240203T185052Z
UID:1615-1708254900-1708258500@peacepresbyterian.com
SUMMARY:Cookie Sunday Fellowship
DESCRIPTION:
URL:https://peacepresbyterian.com/event/cookie-sunday-fellowship-2/
END:VEVENT
END:VCALENDAR