BEGIN:VCALENDAR
VERSION:2.0
PRODID:-//Peace Presbyterian Church - ECPv6.15.12.2//NONSGML v1.0//EN
CALSCALE:GREGORIAN
METHOD:PUBLISH
X-WR-CALNAME:Peace Presbyterian Church
X-ORIGINAL-URL:https://peacepresbyterian.com
X-WR-CALDESC:Events for Peace Presbyterian Church
REFRESH-INTERVAL;VALUE=DURATION:PT1H
X-Robots-Tag:noindex
X-PUBLISHED-TTL:PT1H
BEGIN:VTIMEZONE
TZID:UTC
BEGIN:STANDARD
TZOFFSETFROM:+0000
TZOFFSETTO:+0000
TZNAME:UTC
DTSTART:20220101T000000
END:STANDARD
END:VTIMEZONE
BEGIN:VEVENT
DTSTART;TZID=UTC:20240127T090000
DTEND;TZID=UTC:20240127T163000
DTSTAMP:20260425T113005
CREATED:20240112T165441Z
LAST-MODIFIED:20240112T165441Z
UID:1590-1706346000-1706373000@peacepresbyterian.com
SUMMARY:Quilt-In-A-Day
DESCRIPTION:Mark Your Calendars now!!  Everyone is invited to be here for “Quilt-In-A–Day”\, January 27\, 9am to 4pm\, in Fellowship Hall. Bring your sewing machine\, if you have one. If you need a machine\, contact Nancy Haack and one will be provided for you.  Stay as long as you like.  A soup lunch will be provided.  Contact Nancy for more details (nshaack@gmail.com\, 402-651-5541).
URL:https://peacepresbyterian.com/event/quilt-in-a-day/
END:VEVENT
BEGIN:VEVENT
DTSTART;TZID=UTC:20240123T183000
DTEND;TZID=UTC:20240123T193000
DTSTAMP:20260425T113005
CREATED:20240106T183753Z
LAST-MODIFIED:20240106T183753Z
UID:1580-1706034600-1706038200@peacepresbyterian.com
SUMMARY:Session Meeting in the Library (note date change)
DESCRIPTION:
URL:https://peacepresbyterian.com/event/session-meeting-in-the-library-note-date-change-2/
END:VEVENT
BEGIN:VEVENT
DTSTART;TZID=UTC:20240118T180000
DTEND;TZID=UTC:20240118T190000
DTSTAMP:20260425T113005
CREATED:20240106T183602Z
LAST-MODIFIED:20240112T165311Z
UID:1576-1705600800-1705604400@peacepresbyterian.com
SUMMARY:Man Cave in Fellowship Hall (rescheduled from Jan 11)
DESCRIPTION:“Welcome back\, the cave is open!”  Men of Peace\, plan to join us for our first 2024 installment of Man Cave on Thursday\, January 18\, 6:00pm\, in the Library. Food\, fellowship\, a short devotional\, and even a splash of your favorite beverage. Please RSVP to david.fulton@fdiconsultinginc.com by Monday\, January 8th to ensure we have enough bread to break. Looking forward to seeing you all on the 18th.
URL:https://peacepresbyterian.com/event/man-cave-in-the-library/
END:VEVENT
BEGIN:VEVENT
DTSTART;TZID=UTC:20240107T101500
DTEND;TZID=UTC:20240107T111500
DTSTAMP:20260425T113005
CREATED:20240106T183521Z
LAST-MODIFIED:20240106T183521Z
UID:1574-1704622500-1704626100@peacepresbyterian.com
SUMMARY:Worship Service
DESCRIPTION:
URL:https://peacepresbyterian.com/event/worship-service-2/
LOCATION:Peace Presbyterian Church\, 333 South 204th Street\, Elkhorn\, 68022\, United States
END:VEVENT
BEGIN:VEVENT
DTSTART;TZID=UTC:20231231T101500
DTEND;TZID=UTC:20231231T111500
DTSTAMP:20260425T113005
CREATED:20231203T183724Z
LAST-MODIFIED:20231203T183724Z
UID:1571-1704017700-1704021300@peacepresbyterian.com
SUMMARY:Worship Service
DESCRIPTION:
URL:https://peacepresbyterian.com/event/worship-service/
END:VEVENT
BEGIN:VEVENT
DTSTART;TZID=UTC:20231224T183000
DTEND;TZID=UTC:20231224T193000
DTSTAMP:20260425T113005
CREATED:20231203T183649Z
LAST-MODIFIED:20231203T183649Z
UID:1569-1703442600-1703446200@peacepresbyterian.com
SUMMARY:Christmas Eve Service
DESCRIPTION:
URL:https://peacepresbyterian.com/event/christmas-eve-service/
END:VEVENT
BEGIN:VEVENT
DTSTART;TZID=UTC:20231224T101500
DTEND;TZID=UTC:20231224T111500
DTSTAMP:20260425T113005
CREATED:20231203T183622Z
LAST-MODIFIED:20231203T183622Z
UID:1567-1703412900-1703416500@peacepresbyterian.com
SUMMARY:Morning Worship Service (No Sunday School)
DESCRIPTION:
URL:https://peacepresbyterian.com/event/morning-worship-service-no-sunday-school/
END:VEVENT
BEGIN:VEVENT
DTSTART;TZID=UTC:20231220T120000
DTEND;TZID=UTC:20231220T140000
DTSTAMP:20260425T113005
CREATED:20231203T183547Z
LAST-MODIFIED:20231203T183547Z
UID:1565-1703073600-1703080800@peacepresbyterian.com
SUMMARY:Retiree Potluck at Sharon Bossman's home
DESCRIPTION:
URL:https://peacepresbyterian.com/event/retiree-potluck-at-sharon-bossmans-home/
END:VEVENT
BEGIN:VEVENT
DTSTART;TZID=UTC:20231218T183000
DTEND;TZID=UTC:20231218T193000
DTSTAMP:20260425T113005
CREATED:20231203T183522Z
LAST-MODIFIED:20231203T183522Z
UID:1563-1702924200-1702927800@peacepresbyterian.com
SUMMARY:Cub Scouts
DESCRIPTION:
URL:https://peacepresbyterian.com/event/cub-scouts-13/
END:VEVENT
BEGIN:VEVENT
DTSTART;TZID=UTC:20231217T111400
DTEND;TZID=UTC:20231217T120000
DTSTAMP:20260425T113005
CREATED:20231203T183454Z
LAST-MODIFIED:20231203T183454Z
UID:1561-1702811640-1702814400@peacepresbyterian.com
SUMMARY:Cookie Sunday in Fellowship Hall
DESCRIPTION:
URL:https://peacepresbyterian.com/event/cookie-sunday-in-fellowship-hall/
END:VEVENT
BEGIN:VEVENT
DTSTART;TZID=UTC:20231217T101500
DTEND;TZID=UTC:20231217T111500
DTSTAMP:20260425T113005
CREATED:20231203T183422Z
LAST-MODIFIED:20231203T183422Z
UID:1559-1702808100-1702811700@peacepresbyterian.com
SUMMARY:Worship Service (No Sunday School)
DESCRIPTION:
URL:https://peacepresbyterian.com/event/worship-service-no-sunday-school/
END:VEVENT
BEGIN:VEVENT
DTSTART;TZID=UTC:20231212T100000
DTEND;TZID=UTC:20231212T110000
DTSTAMP:20260425T113005
CREATED:20231203T183340Z
LAST-MODIFIED:20231203T183340Z
UID:1557-1702375200-1702378800@peacepresbyterian.com
SUMMARY:Covenant Bible Study in the Library
DESCRIPTION:
URL:https://peacepresbyterian.com/event/covenant-bible-study-in-the-library-5/
END:VEVENT
BEGIN:VEVENT
DTSTART;TZID=UTC:20231211T183000
DTEND;TZID=UTC:20231211T193000
DTSTAMP:20260425T113005
CREATED:20231203T183305Z
LAST-MODIFIED:20231203T183305Z
UID:1555-1702319400-1702323000@peacepresbyterian.com
SUMMARY:Cub Scouts
DESCRIPTION:
URL:https://peacepresbyterian.com/event/cub-scouts-12/
END:VEVENT
BEGIN:VEVENT
DTSTART;TZID=UTC:20231210T101500
DTEND;TZID=UTC:20231210T111500
DTSTAMP:20260425T113005
CREATED:20231203T183052Z
LAST-MODIFIED:20231203T183052Z
UID:1553-1702203300-1702206900@peacepresbyterian.com
SUMMARY:Worship Service & Sunday School for PK-6th grade
DESCRIPTION:
URL:https://peacepresbyterian.com/event/worship-service-sunday-school-for-pk-6th-grade-3/
END:VEVENT
BEGIN:VEVENT
DTSTART;TZID=UTC:20231206T110000
DTEND;TZID=UTC:20231206T120000
DTSTAMP:20260425T113005
CREATED:20231203T182927Z
LAST-MODIFIED:20231203T182927Z
UID:1551-1701860400-1701864000@peacepresbyterian.com
SUMMARY:Presbyterian Women Meeting
DESCRIPTION:
URL:https://peacepresbyterian.com/event/presbyterian-women-meeting/
END:VEVENT
BEGIN:VEVENT
DTSTART;TZID=UTC:20231204T183000
DTEND;TZID=UTC:20231204T193000
DTSTAMP:20260425T113005
CREATED:20231203T182801Z
LAST-MODIFIED:20231203T182801Z
UID:1548-1701714600-1701718200@peacepresbyterian.com
SUMMARY:Scouts
DESCRIPTION:
URL:https://peacepresbyterian.com/event/scouts/
END:VEVENT
BEGIN:VEVENT
DTSTART;TZID=UTC:20231128T100000
DTEND;TZID=UTC:20231128T110000
DTSTAMP:20260425T113005
CREATED:20231020T161708Z
LAST-MODIFIED:20231020T161708Z
UID:1531-1701165600-1701169200@peacepresbyterian.com
SUMMARY:Covenant Bible Study in the Library
DESCRIPTION:
URL:https://peacepresbyterian.com/event/covenant-bible-study-in-the-library-4/
END:VEVENT
BEGIN:VEVENT
DTSTART;TZID=UTC:20231127T183000
DTEND;TZID=UTC:20231127T193000
DTSTAMP:20260425T113005
CREATED:20231020T161638Z
LAST-MODIFIED:20231020T161638Z
UID:1529-1701109800-1701113400@peacepresbyterian.com
SUMMARY:Cub Scouts
DESCRIPTION:
URL:https://peacepresbyterian.com/event/cub-scouts-11/
END:VEVENT
BEGIN:VEVENT
DTSTART;TZID=UTC:20231126T101500
DTEND;TZID=UTC:20231126T111500
DTSTAMP:20260425T113005
CREATED:20231020T161607Z
LAST-MODIFIED:20231020T161607Z
UID:1527-1700993700-1700997300@peacepresbyterian.com
SUMMARY:Worship Service & Sunday School for PK-6th grade
DESCRIPTION:
URL:https://peacepresbyterian.com/event/worship-service-sunday-school-for-pk-6th-grade-2/
END:VEVENT
BEGIN:VEVENT
DTSTART;TZID=UTC:20231120T183000
DTEND;TZID=UTC:20231120T193000
DTSTAMP:20260425T113005
CREATED:20231020T161351Z
LAST-MODIFIED:20231020T161351Z
UID:1523-1700505000-1700508600@peacepresbyterian.com
SUMMARY:Session Meeting in the Library
DESCRIPTION:
URL:https://peacepresbyterian.com/event/session-meeting-in-the-library-3/
END:VEVENT
BEGIN:VEVENT
DTSTART;TZID=UTC:20231119T180000
DTEND;TZID=UTC:20231119T190000
DTSTAMP:20260425T113005
CREATED:20231020T161307Z
LAST-MODIFIED:20231020T161307Z
UID:1521-1700416800-1700420400@peacepresbyterian.com
SUMMARY:Crossroads Connectioin at Peace
DESCRIPTION:
URL:https://peacepresbyterian.com/event/crossroads-connectioin-at-peace/
END:VEVENT
BEGIN:VEVENT
DTSTART;TZID=UTC:20231119T111500
DTEND;TZID=UTC:20231119T121500
DTSTAMP:20260425T113005
CREATED:20231020T161229Z
LAST-MODIFIED:20231020T161229Z
UID:1519-1700392500-1700396100@peacepresbyterian.com
SUMMARY:PW Pie Fellowship in Fellowship Hall
DESCRIPTION:
URL:https://peacepresbyterian.com/event/pw-pie-fellowship-in-fellowship-hall/
END:VEVENT
BEGIN:VEVENT
DTSTART;TZID=UTC:20231119T111500
DTEND;TZID=UTC:20231119T120000
DTSTAMP:20260425T113005
CREATED:20231110T193221Z
LAST-MODIFIED:20231110T193221Z
UID:1540-1700392500-1700395200@peacepresbyterian.com
SUMMARY:Meeting of the Congregation
DESCRIPTION:Sunday\, November 19\, following the worship service in the sanctuary.
URL:https://peacepresbyterian.com/event/meeting-of-the-congregation/
END:VEVENT
BEGIN:VEVENT
DTSTART;TZID=UTC:20231119T111500
DTEND;TZID=UTC:20231119T120000
DTSTAMP:20260425T113005
CREATED:20231110T193107Z
LAST-MODIFIED:20231110T193107Z
UID:1538-1700392500-1700395200@peacepresbyterian.com
SUMMARY:PNC Update
DESCRIPTION:The PNC will be holding a brief question/answer session immediately following worship November 19 in the sanctuary.
URL:https://peacepresbyterian.com/event/pnc-update/
END:VEVENT
BEGIN:VEVENT
DTSTART;TZID=UTC:20231119T111500
DTEND;TZID=UTC:20231119T120000
DTSTAMP:20260425T113005
CREATED:20231110T193006Z
LAST-MODIFIED:20231110T193006Z
UID:1536-1700392500-1700395200@peacepresbyterian.com
SUMMARY:Pie Fellowship
DESCRIPTION:The Presbyterian Women will hold their annual Pie Fellowship following the worship service on November 19 in Fellowship Hall.
URL:https://peacepresbyterian.com/event/pie-fellowship/
END:VEVENT
BEGIN:VEVENT
DTSTART;TZID=UTC:20231119T101500
DTEND;TZID=UTC:20231119T111500
DTSTAMP:20260425T113005
CREATED:20231110T192856Z
LAST-MODIFIED:20231110T192856Z
UID:1534-1700388900-1700392500@peacepresbyterian.com
SUMMARY:Lifelong Membership Award
DESCRIPTION:The Presbyterian Women will present their annual Lifelong Membership Award during the worship service on Sunday\, November 19.
URL:https://peacepresbyterian.com/event/lifelong-membership-award/
END:VEVENT
BEGIN:VEVENT
DTSTART;TZID=UTC:20231119T101500
DTEND;TZID=UTC:20231119T111500
DTSTAMP:20260425T113005
CREATED:20231020T161124Z
LAST-MODIFIED:20231020T161124Z
UID:1517-1700388900-1700392500@peacepresbyterian.com
SUMMARY:Worship Service & Sunday School for PK-6th grade; PW Thank Offering & Lifetime Membership Award
DESCRIPTION:
URL:https://peacepresbyterian.com/event/worship-service-pw-thank-offering-lifetime-membership-award/
END:VEVENT
BEGIN:VEVENT
DTSTART;TZID=UTC:20231115T120000
DTEND;TZID=UTC:20231115T133000
DTSTAMP:20260425T113005
CREATED:20231020T160927Z
LAST-MODIFIED:20231020T160927Z
UID:1514-1700049600-1700055000@peacepresbyterian.com
SUMMARY:Retirees Potluck Lunch in the Library
DESCRIPTION:
URL:https://peacepresbyterian.com/event/retirees-potluck-lunch-in-the-library/
END:VEVENT
BEGIN:VEVENT
DTSTART;TZID=UTC:20231114T100000
DTEND;TZID=UTC:20231114T110000
DTSTAMP:20260425T113005
CREATED:20231020T160821Z
LAST-MODIFIED:20231020T160821Z
UID:1512-1699956000-1699959600@peacepresbyterian.com
SUMMARY:Covenant Bible Study in the Library
DESCRIPTION:
URL:https://peacepresbyterian.com/event/covenant-bible-study-in-the-library-3/
END:VEVENT
BEGIN:VEVENT
DTSTART;TZID=UTC:20231112T101500
DTEND;TZID=UTC:20231112T111500
DTSTAMP:20260425T113005
CREATED:20231020T160743Z
LAST-MODIFIED:20231020T160743Z
UID:1510-1699784100-1699787700@peacepresbyterian.com
SUMMARY:Stewardship Sunday\, Worship Service Sunday School for PK- 6th grade
DESCRIPTION:
URL:https://peacepresbyterian.com/event/stewardship-sunday-worship-service-sunday-school-for-pk-6th-grade/
END:VEVENT
END:VCALENDAR