BEGIN:VCALENDAR
VERSION:2.0
PRODID:-//Peace Presbyterian Church - ECPv6.15.12.2//NONSGML v1.0//EN
CALSCALE:GREGORIAN
METHOD:PUBLISH
X-WR-CALNAME:Peace Presbyterian Church
X-ORIGINAL-URL:https://peacepresbyterian.com
X-WR-CALDESC:Events for Peace Presbyterian Church
REFRESH-INTERVAL;VALUE=DURATION:PT1H
X-Robots-Tag:noindex
X-PUBLISHED-TTL:PT1H
BEGIN:VTIMEZONE
TZID:UTC
BEGIN:STANDARD
TZOFFSETFROM:+0000
TZOFFSETTO:+0000
TZNAME:UTC
DTSTART:20230101T000000
END:STANDARD
END:VTIMEZONE
BEGIN:VEVENT
DTSTART;TZID=UTC:20240804T093000
DTEND;TZID=UTC:20240804T103000
DTSTAMP:20260424T202221
CREATED:20240730T215050Z
LAST-MODIFIED:20240730T215050Z
UID:1748-1722763800-1722767400@peacepresbyterian.com
SUMMARY:Worship and Communion Service
DESCRIPTION:
URL:https://peacepresbyterian.com/event/worship-and-communion-service/
LOCATION:Peace Presbyterian Church\, 333 South 204th Street\, Elkhorn\, 68022\, United States
END:VEVENT
BEGIN:VEVENT
DTSTART;TZID=UTC:20240807T183000
DTEND;TZID=UTC:20240807T193000
DTSTAMP:20260424T202221
CREATED:20240808T172241Z
LAST-MODIFIED:20240808T172241Z
UID:1773-1723055400-1723059000@peacepresbyterian.com
SUMMARY:"Finding the Sacred in the Everyday" planning meeting
DESCRIPTION:“Finding the Sacred in the Everyday” planning meeting in the Library\, August 7\, 6:30pm. Everyone is welcome and needed to get this new Wednesday night service up and running! Technical\, musical\, and service helpers\, power point\, sound\, readers\, musicians: here’s your invitation to get in on the ground floor of this exciting addition to our Peace Mission! See Rick King\, Ryan King\, or Brian Long with questions.
URL:https://peacepresbyterian.com/event/finding-the-sacred-in-the-everyday-planning-meeting/
END:VEVENT
BEGIN:VEVENT
DTSTART;TZID=UTC:20240811T093000
DTEND;TZID=UTC:20240811T103000
DTSTAMP:20260424T202221
CREATED:20240808T171643Z
LAST-MODIFIED:20240808T171643Z
UID:1765-1723368600-1723372200@peacepresbyterian.com
SUMMARY:Guest Speaker Elder David Fulton
DESCRIPTION:
URL:https://peacepresbyterian.com/event/guest-speaker-elder-david-fulton/
LOCATION:Peace Presbyterian Church\, 333 South 204th Street\, Elkhorn\, 68022\, United States
END:VEVENT
BEGIN:VEVENT
DTSTART;TZID=UTC:20240813T100000
DTEND;TZID=UTC:20240813T120000
DTSTAMP:20260424T202221
CREATED:20240730T215137Z
LAST-MODIFIED:20240808T172108Z
UID:1750-1723543200-1723550400@peacepresbyterian.com
SUMMARY:Covenant Group Bible Study
DESCRIPTION:The Covenant Group continues to meet for Bible Study on Tuesdays at 10:00am in the Library. Contact Liz Baker or Mary McArdle for information. Everyone is welcome!
URL:https://peacepresbyterian.com/event/covenant-group-bible-study-3/
END:VEVENT
BEGIN:VEVENT
DTSTART;TZID=UTC:20240817T090000
DTEND;TZID=UTC:20240817T110000
DTSTAMP:20260424T202221
CREATED:20240730T215226Z
LAST-MODIFIED:20240730T215226Z
UID:1752-1723885200-1723892400@peacepresbyterian.com
SUMMARY:Presbytery Meeting at Calvin Crest
DESCRIPTION:
URL:https://peacepresbyterian.com/event/presbytery-meeting-at-calvin-crest/
END:VEVENT
BEGIN:VEVENT
DTSTART;TZID=UTC:20240818T103000
DTEND;TZID=UTC:20240818T113000
DTSTAMP:20260424T202221
CREATED:20240730T215343Z
LAST-MODIFIED:20240817T171338Z
UID:1754-1723977000-1723980600@peacepresbyterian.com
SUMMARY:Deacon "Donut Sunday" in Fellowship Hall
DESCRIPTION:Everyone is invited to join the Deacons for Donut Sunday\, August 18 in Fellowship Hall\, following the worship service. Come share a cup of coffee and a sweet treat with the Church Family!
URL:https://peacepresbyterian.com/event/donut-sunday-fellowship/
LOCATION:Peace Presbyterian Church\, 333 South 204th Street\, Elkhorn\, 68022\, United States
END:VEVENT
BEGIN:VEVENT
DTSTART;TZID=UTC:20240819T183000
DTEND;TZID=UTC:20240819T193000
DTSTAMP:20260424T202221
CREATED:20240808T171804Z
LAST-MODIFIED:20240808T171804Z
UID:1767-1724092200-1724095800@peacepresbyterian.com
SUMMARY:Session Meeting in the Library
DESCRIPTION:
URL:https://peacepresbyterian.com/event/session-meeting-in-the-library-4/
END:VEVENT
BEGIN:VEVENT
DTSTART;TZID=UTC:20240821T120000
DTEND;TZID=UTC:20240821T140000
DTSTAMP:20260424T202221
CREATED:20240808T171907Z
LAST-MODIFIED:20240808T171907Z
UID:1769-1724241600-1724248800@peacepresbyterian.com
SUMMARY:Retiree Potluck
DESCRIPTION:
URL:https://peacepresbyterian.com/event/retiree-potluck-3/
END:VEVENT
BEGIN:VEVENT
DTSTART;TZID=UTC:20240825T180000
DTEND;TZID=UTC:20240825T200000
DTSTAMP:20260424T202221
CREATED:20240730T215436Z
LAST-MODIFIED:20240817T171138Z
UID:1756-1724608800-1724616000@peacepresbyterian.com
SUMMARY:Crossroads Connection
DESCRIPTION:On Sunday\, August 25\, we will host the next Crossroads Connection Worship Service and Meal. Your assistance is needed to provide food and helping hands for both. We are grateful to the Men of Peace for grilling the meat for the meal. We are in need of side dishes to serve. Below is a link to the volunteer sign up sheet and a hard copy will be placed on the bulletin board outside of Fellowship Hall as well. Thank you for your support of this vital ministry! \nhttps://www.signupgenius.com/go/10C0E4FADA62AAAFFC43-50746417-crossroads
URL:https://peacepresbyterian.com/event/crossroads-connection-service-and-meal-at-peace/
END:VEVENT
BEGIN:VEVENT
DTSTART;TZID=UTC:20240827T100000
DTEND;TZID=UTC:20240827T120000
DTSTAMP:20260424T202221
CREATED:20240730T215529Z
LAST-MODIFIED:20240808T172026Z
UID:1759-1724752800-1724760000@peacepresbyterian.com
SUMMARY:Covenant Group Bible Study
DESCRIPTION:The Covenant Group continues to meet for Bible Study on Tuesdays at 10:00am in the Library. Contact Liz Baker or Mary McArdle for information. Everyone is welcome!
URL:https://peacepresbyterian.com/event/covenant-group-bible-study-4/
END:VEVENT
END:VCALENDAR