BEGIN:VCALENDAR
VERSION:2.0
PRODID:-//Peace Presbyterian Church - ECPv6.15.12.2//NONSGML v1.0//EN
CALSCALE:GREGORIAN
METHOD:PUBLISH
X-WR-CALNAME:Peace Presbyterian Church
X-ORIGINAL-URL:https://peacepresbyterian.com
X-WR-CALDESC:Events for Peace Presbyterian Church
REFRESH-INTERVAL;VALUE=DURATION:PT1H
X-Robots-Tag:noindex
X-PUBLISHED-TTL:PT1H
BEGIN:VTIMEZONE
TZID:UTC
BEGIN:STANDARD
TZOFFSETFROM:+0000
TZOFFSETTO:+0000
TZNAME:UTC
DTSTART:20230101T000000
END:STANDARD
END:VTIMEZONE
BEGIN:VEVENT
DTSTART;TZID=UTC:20241003T183000
DTEND;TZID=UTC:20241003T193000
DTSTAMP:20260424T172526
CREATED:20241002T192843Z
LAST-MODIFIED:20241002T192843Z
UID:1794-1727980200-1727983800@peacepresbyterian.com
SUMMARY:Mission Theology Course in the sanctuary
DESCRIPTION:Beginning on Thursday\, Oct. 3\, at 6:30pm in the sanctuary\, Pastor Brian Long will be facilitating his\, “A Short Course in the Theology of Mission: Changing the Direction of a Church from Inner Looking to Outward Seeking.” This is the curriculum built upon his doctoral work. Everyone and anyone is welcome to attend. The course will be one hour every Thursday and will run for eight weeks. If you have any questions\, feel free to ask Pastor Brian.
URL:https://peacepresbyterian.com/event/mission-theology-course-in-the-sanctuary/
END:VEVENT
BEGIN:VEVENT
DTSTART;TZID=UTC:20241006T101500
DTEND;TZID=UTC:20241006T111500
DTSTAMP:20260424T172526
CREATED:20241002T192951Z
LAST-MODIFIED:20241002T192951Z
UID:1796-1728209700-1728213300@peacepresbyterian.com
SUMMARY:Worship and Communion Service\, Sunday School
DESCRIPTION:
URL:https://peacepresbyterian.com/event/worship-and-communion-service-sunday-school/
LOCATION:Peace Presbyterian Church\, 333 South 204th Street\, Elkhorn\, 68022\, United States
END:VEVENT
BEGIN:VEVENT
DTSTART;TZID=UTC:20241009T183000
DTEND;TZID=UTC:20241009T193000
DTSTAMP:20260424T172526
CREATED:20241002T193036Z
LAST-MODIFIED:20241002T193036Z
UID:1798-1728498600-1728502200@peacepresbyterian.com
SUMMARY:Finding Sacred in the Everyday in Fellowship Hall
DESCRIPTION:
URL:https://peacepresbyterian.com/event/finding-sacred-in-the-everyday-in-fellowship-hall/
END:VEVENT
BEGIN:VEVENT
DTSTART;TZID=UTC:20241010T183000
DTEND;TZID=UTC:20241010T193000
DTSTAMP:20260424T172526
CREATED:20241002T193116Z
LAST-MODIFIED:20241002T193116Z
UID:1800-1728585000-1728588600@peacepresbyterian.com
SUMMARY:Mission Theology Course in the sanctuary
DESCRIPTION:
URL:https://peacepresbyterian.com/event/mission-theology-course-in-the-sanctuary-2/
END:VEVENT
BEGIN:VEVENT
DTSTART;TZID=UTC:20241017T183000
DTEND;TZID=UTC:20241017T193000
DTSTAMP:20260424T172526
CREATED:20241002T193152Z
LAST-MODIFIED:20241002T193152Z
UID:1802-1729189800-1729193400@peacepresbyterian.com
SUMMARY:Mission Theology Course in the sanctuary
DESCRIPTION:
URL:https://peacepresbyterian.com/event/mission-theology-course-in-the-sanctuary-3/
END:VEVENT
BEGIN:VEVENT
DTSTART;TZID=UTC:20241020T101500
DTEND;TZID=UTC:20241020T111500
DTSTAMP:20260424T172526
CREATED:20241002T193243Z
LAST-MODIFIED:20241002T193243Z
UID:1804-1729419300-1729422900@peacepresbyterian.com
SUMMARY:Worship Service\, Sunday School
DESCRIPTION:
URL:https://peacepresbyterian.com/event/worship-service-sunday-school-9/
LOCATION:Peace Presbyterian Church\, 333 South 204th Street\, Elkhorn\, 68022\, United States
END:VEVENT
BEGIN:VEVENT
DTSTART;TZID=UTC:20241020T113000
DTEND;TZID=UTC:20241020T120000
DTSTAMP:20260424T172526
CREATED:20241002T193323Z
LAST-MODIFIED:20241002T193323Z
UID:1806-1729423800-1729425600@peacepresbyterian.com
SUMMARY:Cookie Sunday Fellowship
DESCRIPTION:
URL:https://peacepresbyterian.com/event/cookie-sunday-fellowship-3/
END:VEVENT
BEGIN:VEVENT
DTSTART;TZID=UTC:20241023T183000
DTEND;TZID=UTC:20241023T193000
DTSTAMP:20260424T172526
CREATED:20241002T193350Z
LAST-MODIFIED:20241002T193350Z
UID:1808-1729708200-1729711800@peacepresbyterian.com
SUMMARY:Finding Sacred in the Everyday in Fellowship Hall
DESCRIPTION:
URL:https://peacepresbyterian.com/event/finding-sacred-in-the-everyday-in-fellowship-hall-2/
END:VEVENT
BEGIN:VEVENT
DTSTART;TZID=UTC:20241024T183000
DTEND;TZID=UTC:20241024T193000
DTSTAMP:20260424T172526
CREATED:20241002T193425Z
LAST-MODIFIED:20241002T193425Z
UID:1810-1729794600-1729798200@peacepresbyterian.com
SUMMARY:Mission Theology Course in the sanctuary
DESCRIPTION:
URL:https://peacepresbyterian.com/event/mission-theology-course-in-the-sanctuary-4/
END:VEVENT
BEGIN:VEVENT
DTSTART;TZID=UTC:20241031T183000
DTEND;TZID=UTC:20241031T193000
DTSTAMP:20260424T172526
CREATED:20241002T193514Z
LAST-MODIFIED:20241002T193514Z
UID:1812-1730399400-1730403000@peacepresbyterian.com
SUMMARY:Mission Theology Course in the sanctuary
DESCRIPTION:
URL:https://peacepresbyterian.com/event/mission-theology-course-in-the-sanctuary-5/
END:VEVENT
END:VCALENDAR