BEGIN:VCALENDAR
VERSION:2.0
PRODID:-//Peace Presbyterian Church - ECPv6.15.12.2//NONSGML v1.0//EN
CALSCALE:GREGORIAN
METHOD:PUBLISH
X-WR-CALNAME:Peace Presbyterian Church
X-ORIGINAL-URL:https://peacepresbyterian.com
X-WR-CALDESC:Events for Peace Presbyterian Church
REFRESH-INTERVAL;VALUE=DURATION:PT1H
X-Robots-Tag:noindex
X-PUBLISHED-TTL:PT1H
BEGIN:VTIMEZONE
TZID:UTC
BEGIN:STANDARD
TZOFFSETFROM:+0000
TZOFFSETTO:+0000
TZNAME:UTC
DTSTART:20230101T000000
END:STANDARD
END:VTIMEZONE
BEGIN:VEVENT
DTSTART;TZID=UTC:20241103T101500
DTEND;TZID=UTC:20241103T111500
DTSTAMP:20260424T155915
CREATED:20241030T184800Z
LAST-MODIFIED:20241030T184800Z
UID:1815-1730628900-1730632500@peacepresbyterian.com
SUMMARY:Worship and Communion Service
DESCRIPTION:
URL:https://peacepresbyterian.com/event/worship-and-communion-service-2/
LOCATION:Peace Presbyterian Church\, 333 South 204th Street\, Elkhorn\, 68022\, United States
END:VEVENT
BEGIN:VEVENT
DTSTART;TZID=UTC:20241105T080000
DTEND;TZID=UTC:20241105T170000
DTSTAMP:20260424T155915
CREATED:20241030T184847Z
LAST-MODIFIED:20241030T184847Z
UID:1817-1730793600-1730826000@peacepresbyterian.com
SUMMARY:Election Polling in Fellowship Hall
DESCRIPTION:
URL:https://peacepresbyterian.com/event/election-polling-in-fellowship-hall/
END:VEVENT
BEGIN:VEVENT
DTSTART;TZID=UTC:20241106T093000
DTEND;TZID=UTC:20241106T103000
DTSTAMP:20260424T155915
CREATED:20241030T184934Z
LAST-MODIFIED:20241030T184934Z
UID:1819-1730885400-1730889000@peacepresbyterian.com
SUMMARY:Presbyterian Women Meeting in Fellowship Hall
DESCRIPTION:
URL:https://peacepresbyterian.com/event/presbyterian-women-meeting-in-fellowship-hall-2/
END:VEVENT
BEGIN:VEVENT
DTSTART;TZID=UTC:20241106T183000
DTEND;TZID=UTC:20241106T193000
DTSTAMP:20260424T155915
CREATED:20241030T185023Z
LAST-MODIFIED:20241030T185023Z
UID:1821-1730917800-1730921400@peacepresbyterian.com
SUMMARY:Finding Sacred in the Everyday
DESCRIPTION:
URL:https://peacepresbyterian.com/event/finding-sacred-in-the-everyday/
END:VEVENT
BEGIN:VEVENT
DTSTART;TZID=UTC:20241107T183000
DTEND;TZID=UTC:20241107T193000
DTSTAMP:20260424T155915
CREATED:20241030T185205Z
LAST-MODIFIED:20241030T185205Z
UID:1823-1731004200-1731007800@peacepresbyterian.com
SUMMARY:Mission Theology Course in the sanctuary
DESCRIPTION:
URL:https://peacepresbyterian.com/event/mission-theology-course-in-the-sanctuary-6/
END:VEVENT
BEGIN:VEVENT
DTSTART;TZID=UTC:20241110T101500
DTEND;TZID=UTC:20241110T111500
DTSTAMP:20260424T155915
CREATED:20241030T185307Z
LAST-MODIFIED:20241030T185307Z
UID:1825-1731233700-1731237300@peacepresbyterian.com
SUMMARY:Stewardship Sunday
DESCRIPTION:
URL:https://peacepresbyterian.com/event/stewardship-sunday/
LOCATION:Peace Presbyterian Church\, 333 South 204th Street\, Elkhorn\, 68022\, United States
END:VEVENT
BEGIN:VEVENT
DTSTART;TZID=UTC:20241110T111500
DTEND;TZID=UTC:20241110T121500
DTSTAMP:20260424T155915
CREATED:20241030T185508Z
LAST-MODIFIED:20241030T185508Z
UID:1827-1731237300-1731240900@peacepresbyterian.com
SUMMARY:Thanksgiving Potluck in Fellowship Hall
DESCRIPTION:Mark your calendars and plan to come to the Thanksgiving Potluck in Fellowship Hall on Sunday\, November 10\, after the morning service. The Deacons will provide turkey\, gravy and potatoes. Here are the items the Deacons are asking the congregation to provide:\nMembers whose last names start with A – I: Please bring your favorite side dish (stuffing\, vegetables\, relish tray\, etc.).\nMembers whose last names start with J – Q: Please bring your favorite salad\n(Jell-O\, green\, cranberry\, fruit\, etc.)\nMembers whose last names start with R – Z: Please bring dessert (pie\, cake\, brownies\, etc.)\nBecause we have limited space in the kitchen to keep things warm\, please use crock pots as much as possible for heated items.\nPlease bring your food items to the kitchen the day of the potluck. Or you may bring items a day ahead and place them in the refrigerator with instructions\non their use.\nPlease see that your dishes and utensils are clearly marked for return to their owners.
URL:https://peacepresbyterian.com/event/thanksgiving-potluck-in-fellowship-hall/
END:VEVENT
END:VCALENDAR