BEGIN:VCALENDAR
VERSION:2.0
PRODID:-//Peace Presbyterian Church - ECPv6.15.12.2//NONSGML v1.0//EN
CALSCALE:GREGORIAN
METHOD:PUBLISH
X-ORIGINAL-URL:https://peacepresbyterian.com
X-WR-CALDESC:Events for Peace Presbyterian Church
REFRESH-INTERVAL;VALUE=DURATION:PT1H
X-Robots-Tag:noindex
X-PUBLISHED-TTL:PT1H
BEGIN:VTIMEZONE
TZID:UTC
BEGIN:STANDARD
TZOFFSETFROM:+0000
TZOFFSETTO:+0000
TZNAME:UTC
DTSTART:20240101T000000
END:STANDARD
END:VTIMEZONE
BEGIN:VEVENT
DTSTART;TZID=UTC:20250202T101500
DTEND;TZID=UTC:20250202T111500
DTSTAMP:20260424T120034
CREATED:20250125T195357Z
LAST-MODIFIED:20250125T195357Z
UID:1868-1738491300-1738494900@peacepresbyterian.com
SUMMARY:Worship Service with Communion
DESCRIPTION:
URL:https://peacepresbyterian.com/event/worship-service-with-communion/
LOCATION:Peace Presbyterian Church\, 333 South 204th Street\, Elkhorn\, 68022\, United States
END:VEVENT
BEGIN:VEVENT
DTSTART;TZID=UTC:20250205T093000
DTEND;TZID=UTC:20250205T103000
DTSTAMP:20260424T120034
CREATED:20250125T195429Z
LAST-MODIFIED:20250125T195429Z
UID:1870-1738747800-1738751400@peacepresbyterian.com
SUMMARY:PW Meeting in Fellowship Hall
DESCRIPTION:
URL:https://peacepresbyterian.com/event/pw-meeting-in-fellowship-hall-3/
END:VEVENT
BEGIN:VEVENT
DTSTART;TZID=UTC:20250211T100000
DTEND;TZID=UTC:20250211T110000
DTSTAMP:20260424T120034
CREATED:20250125T195509Z
LAST-MODIFIED:20250125T195509Z
UID:1872-1739268000-1739271600@peacepresbyterian.com
SUMMARY:Covenant Bible Study in the Library
DESCRIPTION:
URL:https://peacepresbyterian.com/event/covenant-bible-study-in-the-library-13/
END:VEVENT
BEGIN:VEVENT
DTSTART;TZID=UTC:20250212T183000
DTEND;TZID=UTC:20250212T193000
DTSTAMP:20260424T120034
CREATED:20250125T195547Z
LAST-MODIFIED:20250125T195547Z
UID:1874-1739385000-1739388600@peacepresbyterian.com
SUMMARY:Finding Sacred in the Everyday
DESCRIPTION:
URL:https://peacepresbyterian.com/event/finding-sacred-in-the-everyday-4/
END:VEVENT
BEGIN:VEVENT
DTSTART;TZID=UTC:20250217T183000
DTEND;TZID=UTC:20250217T193000
DTSTAMP:20260424T120034
CREATED:20250125T195619Z
LAST-MODIFIED:20250125T195619Z
UID:1876-1739817000-1739820600@peacepresbyterian.com
SUMMARY:Session Meeting in the Library
DESCRIPTION:
URL:https://peacepresbyterian.com/event/session-meeting-in-the-library-6/
END:VEVENT
BEGIN:VEVENT
DTSTART;TZID=UTC:20250222T130000
DTEND;TZID=UTC:20250222T140000
DTSTAMP:20260424T120034
CREATED:20250125T195649Z
LAST-MODIFIED:20250125T195649Z
UID:1878-1740229200-1740232800@peacepresbyterian.com
SUMMARY:Peaceful Quilters
DESCRIPTION:
URL:https://peacepresbyterian.com/event/peaceful-quilters-6/
END:VEVENT
BEGIN:VEVENT
DTSTART;TZID=UTC:20250225T100000
DTEND;TZID=UTC:20250225T110000
DTSTAMP:20260424T120034
CREATED:20250125T195725Z
LAST-MODIFIED:20250125T195725Z
UID:1880-1740477600-1740481200@peacepresbyterian.com
SUMMARY:Covenant Bible Study in the Library
DESCRIPTION:
URL:https://peacepresbyterian.com/event/covenant-bible-study-in-the-library-14/
END:VEVENT
BEGIN:VEVENT
DTSTART;TZID=UTC:20250226T183000
DTEND;TZID=UTC:20250226T193000
DTSTAMP:20260424T120034
CREATED:20250125T195753Z
LAST-MODIFIED:20250125T195819Z
UID:1882-1740594600-1740598200@peacepresbyterian.com
SUMMARY:Finding Sacred in the Everyday in the Library
DESCRIPTION:Everyone is invited to attend the next meeting on Wednesday\, February 12\, 6:30pm in Fellowship Hall. For questions or more details see Brian Long\, Rick King\, or Ryan King.
URL:https://peacepresbyterian.com/event/finding-sacred-in-the-everyday-in-the-library/
END:VEVENT
END:VCALENDAR