BEGIN:VCALENDAR
VERSION:2.0
PRODID:-//Peace Presbyterian Church - ECPv6.15.12.2//NONSGML v1.0//EN
CALSCALE:GREGORIAN
METHOD:PUBLISH
X-WR-CALNAME:Peace Presbyterian Church
X-ORIGINAL-URL:https://peacepresbyterian.com
X-WR-CALDESC:Events for Peace Presbyterian Church
REFRESH-INTERVAL;VALUE=DURATION:PT1H
X-Robots-Tag:noindex
X-PUBLISHED-TTL:PT1H
BEGIN:VTIMEZONE
TZID:UTC
BEGIN:STANDARD
TZOFFSETFROM:+0000
TZOFFSETTO:+0000
TZNAME:UTC
DTSTART:20240101T000000
END:STANDARD
END:VTIMEZONE
BEGIN:VEVENT
DTSTART;TZID=UTC:20250305T093000
DTEND;TZID=UTC:20250305T103000
DTSTAMP:20260424T103458
CREATED:20250301T184416Z
LAST-MODIFIED:20250301T184416Z
UID:1886-1741167000-1741170600@peacepresbyterian.com
SUMMARY:PW Meeting in Fellowship Hall
DESCRIPTION:
URL:https://peacepresbyterian.com/event/pw-meeting-in-fellowship-hall-4/
END:VEVENT
BEGIN:VEVENT
DTSTART;TZID=UTC:20250305T183000
DTEND;TZID=UTC:20250305T193000
DTSTAMP:20260424T103458
CREATED:20250301T184444Z
LAST-MODIFIED:20250301T184444Z
UID:1888-1741199400-1741203000@peacepresbyterian.com
SUMMARY:Ash Wednesday Service in the Sanctuary
DESCRIPTION:
URL:https://peacepresbyterian.com/event/ash-wednesday-service-in-the-sanctuary/
END:VEVENT
BEGIN:VEVENT
DTSTART;TZID=UTC:20250309T083000
DTEND;TZID=UTC:20250309T093000
DTSTAMP:20260424T103458
CREATED:20250301T184525Z
LAST-MODIFIED:20250301T184525Z
UID:1890-1741509000-1741512600@peacepresbyterian.com
SUMMARY:Adult Sunday School in the Library
DESCRIPTION:
URL:https://peacepresbyterian.com/event/adult-sunday-school-in-the-library/
END:VEVENT
BEGIN:VEVENT
DTSTART;TZID=UTC:20250311T100000
DTEND;TZID=UTC:20250311T110000
DTSTAMP:20260424T103458
CREATED:20250301T184551Z
LAST-MODIFIED:20250301T184551Z
UID:1892-1741687200-1741690800@peacepresbyterian.com
SUMMARY:Covenant Bible Study in the Library
DESCRIPTION:
URL:https://peacepresbyterian.com/event/covenant-bible-study-in-the-library-15/
END:VEVENT
BEGIN:VEVENT
DTSTART;TZID=UTC:20250312T183000
DTEND;TZID=UTC:20250312T193000
DTSTAMP:20260424T103458
CREATED:20250301T184621Z
LAST-MODIFIED:20250301T184621Z
UID:1894-1741804200-1741807800@peacepresbyterian.com
SUMMARY:Finding Sacred in the Everyday in Fellowship Hall
DESCRIPTION:
URL:https://peacepresbyterian.com/event/finding-sacred-in-the-everyday-in-fellowship-hall-3/
END:VEVENT
BEGIN:VEVENT
DTSTART;TZID=UTC:20250316T111500
DTEND;TZID=UTC:20250316T120000
DTSTAMP:20260424T103458
CREATED:20250301T184657Z
LAST-MODIFIED:20250301T184657Z
UID:1896-1742123700-1742126400@peacepresbyterian.com
SUMMARY:Donut Sunday Fellowship in the Fellowship Hall
DESCRIPTION:
URL:https://peacepresbyterian.com/event/donut-sunday-fellowship-in-the-fellowship-hall/
END:VEVENT
BEGIN:VEVENT
DTSTART;TZID=UTC:20250317T183000
DTEND;TZID=UTC:20250317T193000
DTSTAMP:20260424T103458
CREATED:20250301T184722Z
LAST-MODIFIED:20250301T184722Z
UID:1898-1742236200-1742239800@peacepresbyterian.com
SUMMARY:Session Meeting in the Library
DESCRIPTION:
URL:https://peacepresbyterian.com/event/session-meeting-in-the-library-7/
END:VEVENT
BEGIN:VEVENT
DTSTART;TZID=UTC:20250325T100000
DTEND;TZID=UTC:20250325T110000
DTSTAMP:20260424T103458
CREATED:20250301T184752Z
LAST-MODIFIED:20250301T184752Z
UID:1900-1742896800-1742900400@peacepresbyterian.com
SUMMARY:Covenant Bible Study in the Library
DESCRIPTION:
URL:https://peacepresbyterian.com/event/covenant-bible-study-in-the-library-16/
END:VEVENT
BEGIN:VEVENT
DTSTART;TZID=UTC:20250325T183000
DTEND;TZID=UTC:20250325T193000
DTSTAMP:20260424T103458
CREATED:20250301T184824Z
LAST-MODIFIED:20250301T184824Z
UID:1902-1742927400-1742931000@peacepresbyterian.com
SUMMARY:Spiritual Life Committee Meeting in the Library
DESCRIPTION:
URL:https://peacepresbyterian.com/event/spiritual-life-committee-meeting-in-the-library/
END:VEVENT
END:VCALENDAR